BEGIN:VCALENDAR
VERSION:2.0
PRODID:-//The Theater at Monmouth - ECPv6.15.20//NONSGML v1.0//EN
CALSCALE:GREGORIAN
METHOD:PUBLISH
X-ORIGINAL-URL:https://theateratmonmouth.org
X-WR-CALDESC:Events for The Theater at Monmouth
REFRESH-INTERVAL;VALUE=DURATION:PT1H
X-Robots-Tag:noindex
X-PUBLISHED-TTL:PT1H
BEGIN:VTIMEZONE
TZID:America/New_York
BEGIN:DAYLIGHT
TZOFFSETFROM:-0500
TZOFFSETTO:-0400
TZNAME:EDT
DTSTART:20240310T070000
END:DAYLIGHT
BEGIN:STANDARD
TZOFFSETFROM:-0400
TZOFFSETTO:-0500
TZNAME:EST
DTSTART:20241103T060000
END:STANDARD
BEGIN:DAYLIGHT
TZOFFSETFROM:-0500
TZOFFSETTO:-0400
TZNAME:EDT
DTSTART:20250309T070000
END:DAYLIGHT
BEGIN:STANDARD
TZOFFSETFROM:-0400
TZOFFSETTO:-0500
TZNAME:EST
DTSTART:20251102T060000
END:STANDARD
BEGIN:DAYLIGHT
TZOFFSETFROM:-0500
TZOFFSETTO:-0400
TZNAME:EDT
DTSTART:20260308T070000
END:DAYLIGHT
BEGIN:STANDARD
TZOFFSETFROM:-0400
TZOFFSETTO:-0500
TZNAME:EST
DTSTART:20261101T060000
END:STANDARD
END:VTIMEZONE
BEGIN:VEVENT
DTSTART;TZID=America/New_York:20251127T193000
DTEND;TZID=America/New_York:20251127T210000
DTSTAMP:20260421T055455
CREATED:20250514T182121Z
LAST-MODIFIED:20250514T182121Z
UID:13697-1764271800-1764277200@theateratmonmouth.org
SUMMARY:Who's Holiday!
DESCRIPTION:FOR MATURE WHOS ONLY!\nYou saw her last when she was just two\, now celebrate the holidays with Cindy Lou Who. Pull up a seat and fill up your cup\, ‘Cause your favorite little Who is all grown up. Who’s Holiday! is a wildly funny and heartfelt adults only comedy that tells the story of Cindy Lou Who as she recalls that Christmas Eve she first met the Grinch and the twisted turn of events her life has now taken. Join us on the evening of Thanksgiving\, tickets just $18! (Price shown includes $3 per ticket fee)
URL:https://theateratmonmouth.org/event/whos-holiday/
LOCATION:Cumston Hall\, 796 Main Street\, Monmouth \, ME\, 04259\, United States
CATEGORIES:Holiday Show
ATTACH;FMTTYPE=image/jpeg:https://theateratmonmouth.org/wp-content/uploads/2025/05/Whos-Holiday-Slider.jpg
END:VEVENT
BEGIN:VEVENT
DTSTART;TZID=America/New_York:20251128T193000
DTEND;TZID=America/New_York:20251128T210000
DTSTAMP:20260421T055455
CREATED:20250514T182229Z
LAST-MODIFIED:20250514T182229Z
UID:13700-1764358200-1764363600@theateratmonmouth.org
SUMMARY:Who's Holiday!
DESCRIPTION:FOR MATURE WHOS ONLY!\nYou saw her last when she was just two\, now celebrate the holidays with Cindy Lou Who. Pull up a seat and fill up your cup\, ‘Cause your favorite little Who is all grown up. Who’s Holiday! is a wildly funny and heartfelt adults only comedy that tells the story of Cindy Lou Who as she recalls that Christmas Eve she first met the Grinch and the twisted turn of events her life has now taken.
URL:https://theateratmonmouth.org/event/whos-holiday-2/
LOCATION:Cumston Hall\, 796 Main Street\, Monmouth \, ME\, 04259\, United States
CATEGORIES:Holiday Show
ATTACH;FMTTYPE=image/jpeg:https://theateratmonmouth.org/wp-content/uploads/2025/05/Whos-Holiday-Slider.jpg
END:VEVENT
BEGIN:VEVENT
DTSTART;TZID=America/New_York:20251129T130000
DTEND;TZID=America/New_York:20251129T143000
DTSTAMP:20260421T055455
CREATED:20250514T182410Z
LAST-MODIFIED:20250514T182410Z
UID:13703-1764421200-1764426600@theateratmonmouth.org
SUMMARY:Who's Holiday!
DESCRIPTION:FOR MATURE WHOS ONLY!\nYou saw her last when she was just two\, now celebrate the holidays with Cindy Lou Who. Pull up a seat and fill up your cup\, ‘Cause your favorite little Who is all grown up. Who’s Holiday! is a wildly funny and heartfelt adults only comedy that tells the story of Cindy Lou Who as she recalls that Christmas Eve she first met the Grinch and the twisted turn of events her life has now taken.
URL:https://theateratmonmouth.org/event/whos-holiday-3/
LOCATION:Cumston Hall\, 796 Main Street\, Monmouth \, ME\, 04259\, United States
CATEGORIES:Holiday Show
ATTACH;FMTTYPE=image/jpeg:https://theateratmonmouth.org/wp-content/uploads/2025/05/Whos-Holiday-Slider.jpg
END:VEVENT
BEGIN:VEVENT
DTSTART;TZID=America/New_York:20251129T170000
DTEND;TZID=America/New_York:20251129T183000
DTSTAMP:20260421T055455
CREATED:20250514T182509Z
LAST-MODIFIED:20251006T180924Z
UID:13705-1764435600-1764441000@theateratmonmouth.org
SUMMARY:Who's Holiday!
DESCRIPTION:FOR MATURE WHOS ONLY!\nYou saw her last when she was just two\, now celebrate the holidays with Cindy Lou Who. Pull up a seat and fill up your cup\, ‘Cause your favorite little Who is all grown up. Who’s Holiday! is a wildly funny and heartfelt adults only comedy that tells the story of Cindy Lou Who as she recalls that Christmas Eve she first met the Grinch and the twisted turn of events her life has now taken.
URL:https://theateratmonmouth.org/event/whos-holiday-4/
LOCATION:Cumston Hall\, 796 Main Street\, Monmouth \, ME\, 04259\, United States
CATEGORIES:Holiday Show
ATTACH;FMTTYPE=image/jpeg:https://theateratmonmouth.org/wp-content/uploads/2025/05/Whos-Holiday-Slider.jpg
END:VEVENT
BEGIN:VEVENT
DTSTART;TZID=America/New_York:20251130T130000
DTEND;TZID=America/New_York:20251130T143000
DTSTAMP:20260421T055455
CREATED:20250514T182618Z
LAST-MODIFIED:20250514T182618Z
UID:13708-1764507600-1764513000@theateratmonmouth.org
SUMMARY:Who's Holiday!
DESCRIPTION:FOR MATURE WHOS ONLY!\nYou saw her last when she was just two\, now celebrate the holidays with Cindy Lou Who. Pull up a seat and fill up your cup\, ‘Cause your favorite little Who is all grown up. Who’s Holiday! is a wildly funny and heartfelt adults only comedy that tells the story of Cindy Lou Who as she recalls that Christmas Eve she first met the Grinch and the twisted turn of events her life has now taken.
URL:https://theateratmonmouth.org/event/whos-holiday-5/
LOCATION:Cumston Hall\, 796 Main Street\, Monmouth \, ME\, 04259\, United States
CATEGORIES:Holiday Show
ATTACH;FMTTYPE=image/jpeg:https://theateratmonmouth.org/wp-content/uploads/2025/05/Whos-Holiday-Slider.jpg
END:VEVENT
END:VCALENDAR