BEGIN:VCALENDAR
VERSION:2.0
PRODID:-//The Theater at Monmouth - ECPv6.15.20//NONSGML v1.0//EN
CALSCALE:GREGORIAN
METHOD:PUBLISH
X-WR-CALNAME:The Theater at Monmouth
X-ORIGINAL-URL:https://theateratmonmouth.org
X-WR-CALDESC:Events for The Theater at Monmouth
REFRESH-INTERVAL;VALUE=DURATION:PT1H
X-Robots-Tag:noindex
X-PUBLISHED-TTL:PT1H
BEGIN:VTIMEZONE
TZID:America/New_York
BEGIN:DAYLIGHT
TZOFFSETFROM:-0500
TZOFFSETTO:-0400
TZNAME:EDT
DTSTART:20240310T070000
END:DAYLIGHT
BEGIN:STANDARD
TZOFFSETFROM:-0400
TZOFFSETTO:-0500
TZNAME:EST
DTSTART:20241103T060000
END:STANDARD
BEGIN:DAYLIGHT
TZOFFSETFROM:-0500
TZOFFSETTO:-0400
TZNAME:EDT
DTSTART:20250309T070000
END:DAYLIGHT
BEGIN:STANDARD
TZOFFSETFROM:-0400
TZOFFSETTO:-0500
TZNAME:EST
DTSTART:20251102T060000
END:STANDARD
BEGIN:DAYLIGHT
TZOFFSETFROM:-0500
TZOFFSETTO:-0400
TZNAME:EDT
DTSTART:20260308T070000
END:DAYLIGHT
BEGIN:STANDARD
TZOFFSETFROM:-0400
TZOFFSETTO:-0500
TZNAME:EST
DTSTART:20261101T060000
END:STANDARD
END:VTIMEZONE
BEGIN:VEVENT
DTSTART;TZID=America/New_York:20250710T193000
DTEND;TZID=America/New_York:20250710T213000
DTSTAMP:20260421T060436
CREATED:20250221T152044Z
LAST-MODIFIED:20250221T152044Z
UID:13514-1752175800-1752183000@theateratmonmouth.org
SUMMARY:Twelfth Night
DESCRIPTION:After surviving a shipwreck\, twins Sebastian and Viola have been separated and think the other to be dead. Viola disguises herself as a man named Cesario and goes into service for Duke Orsino. Orsino loves Olivia\, who falls in love with Cesario (who is really Viola)\, and Viola falls in love with Orsino (who thinks she is a man named Cesario). Then Sebastian arrives\, causing a flood of mischief and mistaken identities in this joyful romp where music be the fruit of love.
URL:https://theateratmonmouth.org/event/twelfth-night/
LOCATION:Cumston Hall\, 796 Main Street\, Monmouth \, ME\, 04259\, United States
CATEGORIES:Shakespeare,Summer Season
ATTACH;FMTTYPE=image/jpeg:https://theateratmonmouth.org/wp-content/uploads/2025/02/Twelfth-Night-Slider.jpg
END:VEVENT
BEGIN:VEVENT
DTSTART;TZID=America/New_York:20250711T193000
DTEND;TZID=America/New_York:20250711T213000
DTSTAMP:20260421T060436
CREATED:20250221T152146Z
LAST-MODIFIED:20250221T152146Z
UID:13516-1752262200-1752269400@theateratmonmouth.org
SUMMARY:Twelfth Night
DESCRIPTION:After surviving a shipwreck\, twins Sebastian and Viola have been separated and think the other to be dead. Viola disguises herself as a man named Cesario and goes into service for Duke Orsino. Orsino loves Olivia\, who falls in love with Cesario (who is really Viola)\, and Viola falls in love with Orsino (who thinks she is a man named Cesario). Then Sebastian arrives\, causing a flood of mischief and mistaken identities in this joyful romp where music be the fruit of love.
URL:https://theateratmonmouth.org/event/twelfth-night-2/
LOCATION:Cumston Hall\, 796 Main Street\, Monmouth \, ME\, 04259\, United States
CATEGORIES:Shakespeare,Summer Season
ATTACH;FMTTYPE=image/jpeg:https://theateratmonmouth.org/wp-content/uploads/2025/02/Twelfth-Night-Slider.jpg
END:VEVENT
BEGIN:VEVENT
DTSTART;TZID=America/New_York:20250717T193000
DTEND;TZID=America/New_York:20250717T213000
DTSTAMP:20260421T060436
CREATED:20250221T155415Z
LAST-MODIFIED:20250221T155415Z
UID:13540-1752780600-1752787800@theateratmonmouth.org
SUMMARY:Ms. Holmes & Ms. Watson - Apt. 2B
DESCRIPTION:An Irreverent\, darkly comic\, modern take on Sir Arthur Conan Doyle’s famous sleuth and sidekick. It’s a Modern-day Baker Street where the manic\, razor-sharp genius Holmes\, and recuperating American divorcée Watson\, tumble from caper to caper. But when the quasi-dysfunctional\, female Odd-Couple\, mystery solving duo come face to face with a villain who has all the answers and is always one step ahead\, uproarious adventure\, high-stake hijinks\, and non-stop laughter are imminent.
URL:https://theateratmonmouth.org/event/ms-holmes-ms-watson-apt-2b/
LOCATION:Cumston Hall\, 796 Main Street\, Monmouth \, ME\, 04259\, United States
CATEGORIES:Summer Season
ATTACH;FMTTYPE=image/jpeg:https://theateratmonmouth.org/wp-content/uploads/2025/02/Ms.-Holmes-Slider.jpg
END:VEVENT
BEGIN:VEVENT
DTSTART;TZID=America/New_York:20250718T193000
DTEND;TZID=America/New_York:20250718T213000
DTSTAMP:20260421T060436
CREATED:20250221T155513Z
LAST-MODIFIED:20250221T155513Z
UID:13542-1752867000-1752874200@theateratmonmouth.org
SUMMARY:Ms. Holmes & Ms. Watson - Apt. 2B
DESCRIPTION:An Irreverent\, darkly comic\, modern take on Sir Arthur Conan Doyle’s famous sleuth and sidekick. It’s a Modern-day Baker Street where the manic\, razor-sharp genius Holmes\, and recuperating American divorcée Watson\, tumble from caper to caper. But when the quasi-dysfunctional\, female Odd-Couple\, mystery solving duo come face to face with a villain who has all the answers and is always one step ahead\, uproarious adventure\, high-stake hijinks\, and non-stop laughter are imminent.
URL:https://theateratmonmouth.org/event/ms-holmes-ms-watson-apt-2b-2/
LOCATION:Cumston Hall\, 796 Main Street\, Monmouth \, ME\, 04259\, United States
CATEGORIES:Summer Season
ATTACH;FMTTYPE=image/jpeg:https://theateratmonmouth.org/wp-content/uploads/2025/02/Ms.-Holmes-Slider.jpg
END:VEVENT
BEGIN:VEVENT
DTSTART;TZID=America/New_York:20250719T130000
DTEND;TZID=America/New_York:20250719T150000
DTSTAMP:20260421T060436
CREATED:20250221T152256Z
LAST-MODIFIED:20250221T152256Z
UID:13518-1752930000-1752937200@theateratmonmouth.org
SUMMARY:Twelfth Night
DESCRIPTION:After surviving a shipwreck\, twins Sebastian and Viola have been separated and think the other to be dead. Viola disguises herself as a man named Cesario and goes into service for Duke Orsino. Orsino loves Olivia\, who falls in love with Cesario (who is really Viola)\, and Viola falls in love with Orsino (who thinks she is a man named Cesario). Then Sebastian arrives\, causing a flood of mischief and mistaken identities in this joyful romp where music be the fruit of love.
URL:https://theateratmonmouth.org/event/twelfth-night-3/
LOCATION:Cumston Hall\, 796 Main Street\, Monmouth \, ME\, 04259\, United States
CATEGORIES:Shakespeare,Summer Season
ATTACH;FMTTYPE=image/jpeg:https://theateratmonmouth.org/wp-content/uploads/2025/02/Twelfth-Night-Slider.jpg
END:VEVENT
BEGIN:VEVENT
DTSTART;TZID=America/New_York:20250724T193000
DTEND;TZID=America/New_York:20250724T210000
DTSTAMP:20260421T060436
CREATED:20250221T160630Z
LAST-MODIFIED:20250221T160630Z
UID:13561-1753385400-1753390800@theateratmonmouth.org
SUMMARY:The Complete Works of Jane Austen\, Abridged
DESCRIPTION:A funny\, fast-paced frolic through the masterpieces of Jane Austen. Three actors take on all of Austen’s beloved heroines\, friends\, and love interests – and her incisive social satire – in just 80 minutes. But when they lose a cast member\, the two remaining Janeites must teach an understudy about her work. It is a truth universally acknowledged that an audience in possession of high spirits must be in want of a ticket to this big-hearted comedy that will delight Austen fans and newcomers alike.
URL:https://theateratmonmouth.org/event/the-complete-works-of-jane-austen-abridged/
LOCATION:Cumston Hall\, 796 Main Street\, Monmouth \, ME\, 04259\, United States
CATEGORIES:Summer Season
ATTACH;FMTTYPE=image/jpeg:https://theateratmonmouth.org/wp-content/uploads/2025/02/Jane-Austen-Slider.jpg
END:VEVENT
BEGIN:VEVENT
DTSTART;TZID=America/New_York:20250725T193000
DTEND;TZID=America/New_York:20250725T210000
DTSTAMP:20260421T060436
CREATED:20250221T160728Z
LAST-MODIFIED:20250221T160728Z
UID:13563-1753471800-1753477200@theateratmonmouth.org
SUMMARY:The Complete Works of Jane Austen\, Abridged
DESCRIPTION:A funny\, fast-paced frolic through the masterpieces of Jane Austen. Three actors take on all of Austen’s beloved heroines\, friends\, and love interests – and her incisive social satire – in just 80 minutes. But when they lose a cast member\, the two remaining Janeites must teach an understudy about her work. It is a truth universally acknowledged that an audience in possession of high spirits must be in want of a ticket to this big-hearted comedy that will delight Austen fans and newcomers alike.
URL:https://theateratmonmouth.org/event/the-complete-works-of-jane-austen-abridged-2/
LOCATION:Cumston Hall\, 796 Main Street\, Monmouth \, ME\, 04259\, United States
CATEGORIES:Summer Season
ATTACH;FMTTYPE=image/jpeg:https://theateratmonmouth.org/wp-content/uploads/2025/02/Jane-Austen-Slider.jpg
END:VEVENT
BEGIN:VEVENT
DTSTART;TZID=America/New_York:20250726T130000
DTEND;TZID=America/New_York:20250726T150000
DTSTAMP:20260421T060436
CREATED:20250221T155715Z
LAST-MODIFIED:20250221T155715Z
UID:13544-1753534800-1753542000@theateratmonmouth.org
SUMMARY:Ms. Holmes & Ms. Watson - Apt. 2B
DESCRIPTION:An Irreverent\, darkly comic\, modern take on Sir Arthur Conan Doyle’s famous sleuth and sidekick. It’s a Modern-day Baker Street where the manic\, razor-sharp genius Holmes\, and recuperating American divorcée Watson\, tumble from caper to caper. But when the quasi-dysfunctional\, female Odd-Couple\, mystery solving duo come face to face with a villain who has all the answers and is always one step ahead\, uproarious adventure\, high-stake hijinks\, and non-stop laughter are imminent.
URL:https://theateratmonmouth.org/event/ms-holmes-ms-watson-apt-2b-3/
LOCATION:Cumston Hall\, 796 Main Street\, Monmouth \, ME\, 04259\, United States
CATEGORIES:Summer Season
ATTACH;FMTTYPE=image/jpeg:https://theateratmonmouth.org/wp-content/uploads/2025/02/Ms.-Holmes-Slider.jpg
END:VEVENT
BEGIN:VEVENT
DTSTART;TZID=America/New_York:20250726T193000
DTEND;TZID=America/New_York:20250726T213000
DTSTAMP:20260421T060436
CREATED:20250221T152356Z
LAST-MODIFIED:20250221T152356Z
UID:13520-1753558200-1753565400@theateratmonmouth.org
SUMMARY:Twelfth Night
DESCRIPTION:After surviving a shipwreck\, twins Sebastian and Viola have been separated and think the other to be dead. Viola disguises herself as a man named Cesario and goes into service for Duke Orsino. Orsino loves Olivia\, who falls in love with Cesario (who is really Viola)\, and Viola falls in love with Orsino (who thinks she is a man named Cesario). Then Sebastian arrives\, causing a flood of mischief and mistaken identities in this joyful romp where music be the fruit of love.
URL:https://theateratmonmouth.org/event/twelfth-night-4/
LOCATION:Cumston Hall\, 796 Main Street\, Monmouth \, ME\, 04259\, United States
CATEGORIES:Shakespeare,Summer Season
ATTACH;FMTTYPE=image/jpeg:https://theateratmonmouth.org/wp-content/uploads/2025/02/Twelfth-Night-Slider.jpg
END:VEVENT
BEGIN:VEVENT
DTSTART;TZID=America/New_York:20250731T193000
DTEND;TZID=America/New_York:20250731T213000
DTSTAMP:20260421T060436
CREATED:20250221T161834Z
LAST-MODIFIED:20250221T161834Z
UID:13579-1753990200-1753997400@theateratmonmouth.org
SUMMARY:Cymbeline
DESCRIPTION:Princess Imogen has defied her father\, Cymbeline\, King of Britain\, by marrying the commoner and orphan Posthumus rather than the Queen’s doltish son Cloten from her previous marriage. Determined to control his daughter\, Cymbeline exiles Posthumus\, who travels to Rome. There the villainous Giacomo scorns Posthumus’s confidence in his wife’s virtue\, boasting that he could seduce her. Irritated by his arrogance\, Posthumus wagers his ring on Innogen’s faithfulness. In Britain\, Giacomo hides himself in her bedroom and emerges at night to observe intimate details of her body and to steal her bracelet. These seeming proofs of infidelity send Posthumus into a jealous rage\, and he orders his servant Pisanio to kill Imogen.
URL:https://theateratmonmouth.org/event/cymbeline/
LOCATION:Cumston Hall\, 796 Main Street\, Monmouth \, ME\, 04259\, United States
CATEGORIES:Shakespeare,Summer Season
END:VEVENT
END:VCALENDAR