BEGIN:VCALENDAR
VERSION:2.0
PRODID:-//The Theater at Monmouth - ECPv6.15.20//NONSGML v1.0//EN
CALSCALE:GREGORIAN
METHOD:PUBLISH
X-ORIGINAL-URL:https://theateratmonmouth.org
X-WR-CALDESC:Events for The Theater at Monmouth
REFRESH-INTERVAL;VALUE=DURATION:PT1H
X-Robots-Tag:noindex
X-PUBLISHED-TTL:PT1H
BEGIN:VTIMEZONE
TZID:America/New_York
BEGIN:DAYLIGHT
TZOFFSETFROM:-0500
TZOFFSETTO:-0400
TZNAME:EDT
DTSTART:20230312T070000
END:DAYLIGHT
BEGIN:STANDARD
TZOFFSETFROM:-0400
TZOFFSETTO:-0500
TZNAME:EST
DTSTART:20231105T060000
END:STANDARD
BEGIN:DAYLIGHT
TZOFFSETFROM:-0500
TZOFFSETTO:-0400
TZNAME:EDT
DTSTART:20240310T070000
END:DAYLIGHT
BEGIN:STANDARD
TZOFFSETFROM:-0400
TZOFFSETTO:-0500
TZNAME:EST
DTSTART:20241103T060000
END:STANDARD
BEGIN:DAYLIGHT
TZOFFSETFROM:-0500
TZOFFSETTO:-0400
TZNAME:EDT
DTSTART:20250309T070000
END:DAYLIGHT
BEGIN:STANDARD
TZOFFSETFROM:-0400
TZOFFSETTO:-0500
TZNAME:EST
DTSTART:20251102T060000
END:STANDARD
END:VTIMEZONE
BEGIN:VEVENT
DTSTART;TZID=America/New_York:20241201T130000
DTEND;TZID=America/New_York:20241201T153000
DTSTAMP:20260421T085626
CREATED:20241119T152238Z
LAST-MODIFIED:20241119T152238Z
UID:13417-1733058000-1733067000@theateratmonmouth.org
SUMMARY:A Tuna Christmas
DESCRIPTION:It’s Christmas time in Tuna\, the third-smallest town in Texas\, and the citizens are struggling to get ready. There’s fiery competition in the annual Lawn-display contest as Vera Carp sets out to win her 15th in a row\, until a mysterious “Christmas Phantom” threatens to throw the contest in Turmoil; And Joe Bob Lipsey hopes to mount a successful production of A Christmas Carol… If he can keep the electric company from shutting the lights off. Watch as two actors play 20+ characters and all of their antics in this affectionate and withering satire of a small town.
URL:https://theateratmonmouth.org/event/a-tuna-christmas-5/
LOCATION:Cumston Hall\, 796 Main Street\, Monmouth \, ME\, 04259\, United States
CATEGORIES:Holiday Show
ATTACH;FMTTYPE=image/jpeg:https://theateratmonmouth.org/wp-content/uploads/2024/09/Tuna-Christmas-Slider.jpg
END:VEVENT
BEGIN:VEVENT
DTSTART;TZID=America/New_York:20241205T193000
DTEND;TZID=America/New_York:20241205T220000
DTSTAMP:20260421T085626
CREATED:20241119T152338Z
LAST-MODIFIED:20241119T152338Z
UID:13420-1733427000-1733436000@theateratmonmouth.org
SUMMARY:A Tuna Christmas
DESCRIPTION:It’s Christmas time in Tuna\, the third-smallest town in Texas\, and the citizens are struggling to get ready. There’s fiery competition in the annual Lawn-display contest as Vera Carp sets out to win her 15th in a row\, until a mysterious “Christmas Phantom” threatens to throw the contest in Turmoil; And Joe Bob Lipsey hopes to mount a successful production of A Christmas Carol… If he can keep the electric company from shutting the lights off. Watch as two actors play 20+ characters and all of their antics in this affectionate and withering satire of a small town.
URL:https://theateratmonmouth.org/event/a-tuna-christmas-6/
LOCATION:Cumston Hall\, 796 Main Street\, Monmouth \, ME\, 04259\, United States
CATEGORIES:Holiday Show
ATTACH;FMTTYPE=image/jpeg:https://theateratmonmouth.org/wp-content/uploads/2024/09/Tuna-Christmas-Slider.jpg
END:VEVENT
BEGIN:VEVENT
DTSTART;TZID=America/New_York:20241206T193000
DTEND;TZID=America/New_York:20241206T220000
DTSTAMP:20260421T085626
CREATED:20241119T152455Z
LAST-MODIFIED:20241119T152455Z
UID:13423-1733513400-1733522400@theateratmonmouth.org
SUMMARY:A Tuna Christmas
DESCRIPTION:It’s Christmas time in Tuna\, the third-smallest town in Texas\, and the citizens are struggling to get ready. There’s fiery competition in the annual Lawn-display contest as Vera Carp sets out to win her 15th in a row\, until a mysterious “Christmas Phantom” threatens to throw the contest in Turmoil; And Joe Bob Lipsey hopes to mount a successful production of A Christmas Carol… If he can keep the electric company from shutting the lights off. Watch as two actors play 20+ characters and all of their antics in this affectionate and withering satire of a small town.
URL:https://theateratmonmouth.org/event/a-tuna-christmas-7/
LOCATION:Cumston Hall\, 796 Main Street\, Monmouth \, ME\, 04259\, United States
CATEGORIES:Holiday Show
ATTACH;FMTTYPE=image/jpeg:https://theateratmonmouth.org/wp-content/uploads/2024/09/Tuna-Christmas-Slider.jpg
END:VEVENT
BEGIN:VEVENT
DTSTART;TZID=America/New_York:20241207T130000
DTEND;TZID=America/New_York:20241207T153000
DTSTAMP:20260421T085626
CREATED:20241119T152548Z
LAST-MODIFIED:20241119T152548Z
UID:13426-1733576400-1733585400@theateratmonmouth.org
SUMMARY:A Tuna Christmas
DESCRIPTION:It’s Christmas time in Tuna\, the third-smallest town in Texas\, and the citizens are struggling to get ready. There’s fiery competition in the annual Lawn-display contest as Vera Carp sets out to win her 15th in a row\, until a mysterious “Christmas Phantom” threatens to throw the contest in Turmoil; And Joe Bob Lipsey hopes to mount a successful production of A Christmas Carol… If he can keep the electric company from shutting the lights off. Watch as two actors play 20+ characters and all of their antics in this affectionate and withering satire of a small town.
URL:https://theateratmonmouth.org/event/a-tuna-christmas-8/
LOCATION:Cumston Hall\, 796 Main Street\, Monmouth \, ME\, 04259\, United States
CATEGORIES:Holiday Show
ATTACH;FMTTYPE=image/jpeg:https://theateratmonmouth.org/wp-content/uploads/2024/09/Tuna-Christmas-Slider.jpg
END:VEVENT
BEGIN:VEVENT
DTSTART;TZID=America/New_York:20241207T193000
DTEND;TZID=America/New_York:20241207T220000
DTSTAMP:20260421T085626
CREATED:20241119T152648Z
LAST-MODIFIED:20241119T152648Z
UID:13429-1733599800-1733608800@theateratmonmouth.org
SUMMARY:A Tuna Christmas
DESCRIPTION:It’s Christmas time in Tuna\, the third-smallest town in Texas\, and the citizens are struggling to get ready. There’s fiery competition in the annual Lawn-display contest as Vera Carp sets out to win her 15th in a row\, until a mysterious “Christmas Phantom” threatens to throw the contest in Turmoil; And Joe Bob Lipsey hopes to mount a successful production of A Christmas Carol… If he can keep the electric company from shutting the lights off. Watch as two actors play 20+ characters and all of their antics in this affectionate and withering satire of a small town.
URL:https://theateratmonmouth.org/event/a-tuna-christmas-9/
LOCATION:Cumston Hall\, 796 Main Street\, Monmouth \, ME\, 04259\, United States
CATEGORIES:Holiday Show
ATTACH;FMTTYPE=image/jpeg:https://theateratmonmouth.org/wp-content/uploads/2024/09/Tuna-Christmas-Slider.jpg
END:VEVENT
BEGIN:VEVENT
DTSTART;TZID=America/New_York:20241208T130000
DTEND;TZID=America/New_York:20241208T153000
DTSTAMP:20260421T085626
CREATED:20241119T152742Z
LAST-MODIFIED:20241119T152742Z
UID:13432-1733662800-1733671800@theateratmonmouth.org
SUMMARY:A Tuna Christmas
DESCRIPTION:It’s Christmas time in Tuna\, the third-smallest town in Texas\, and the citizens are struggling to get ready. There’s fiery competition in the annual Lawn-display contest as Vera Carp sets out to win her 15th in a row\, until a mysterious “Christmas Phantom” threatens to throw the contest in Turmoil; And Joe Bob Lipsey hopes to mount a successful production of A Christmas Carol… If he can keep the electric company from shutting the lights off. Watch as two actors play 20+ characters and all of their antics in this affectionate and withering satire of a small town.
URL:https://theateratmonmouth.org/event/a-tuna-christmas-10/
LOCATION:Cumston Hall\, 796 Main Street\, Monmouth \, ME\, 04259\, United States
CATEGORIES:Holiday Show
ATTACH;FMTTYPE=image/jpeg:https://theateratmonmouth.org/wp-content/uploads/2024/09/Tuna-Christmas-Slider.jpg
END:VEVENT
END:VCALENDAR