BEGIN:VCALENDAR
VERSION:2.0
PRODID:-//The Theater at Monmouth - ECPv6.15.20//NONSGML v1.0//EN
CALSCALE:GREGORIAN
METHOD:PUBLISH
X-WR-CALNAME:The Theater at Monmouth
X-ORIGINAL-URL:https://theateratmonmouth.org
X-WR-CALDESC:Events for The Theater at Monmouth
REFRESH-INTERVAL;VALUE=DURATION:PT1H
X-Robots-Tag:noindex
X-PUBLISHED-TTL:PT1H
BEGIN:VTIMEZONE
TZID:America/New_York
BEGIN:DAYLIGHT
TZOFFSETFROM:-0500
TZOFFSETTO:-0400
TZNAME:EDT
DTSTART:20230312T070000
END:DAYLIGHT
BEGIN:STANDARD
TZOFFSETFROM:-0400
TZOFFSETTO:-0500
TZNAME:EST
DTSTART:20231105T060000
END:STANDARD
BEGIN:DAYLIGHT
TZOFFSETFROM:-0500
TZOFFSETTO:-0400
TZNAME:EDT
DTSTART:20240310T070000
END:DAYLIGHT
BEGIN:STANDARD
TZOFFSETFROM:-0400
TZOFFSETTO:-0500
TZNAME:EST
DTSTART:20241103T060000
END:STANDARD
BEGIN:DAYLIGHT
TZOFFSETFROM:-0500
TZOFFSETTO:-0400
TZNAME:EDT
DTSTART:20250309T070000
END:DAYLIGHT
BEGIN:STANDARD
TZOFFSETFROM:-0400
TZOFFSETTO:-0500
TZNAME:EST
DTSTART:20251102T060000
END:STANDARD
END:VTIMEZONE
BEGIN:VEVENT
DTSTART;TZID=America/New_York:20241012T130000
DTEND;TZID=America/New_York:20241012T143000
DTSTAMP:20260421T060440
CREATED:20240904T184044Z
LAST-MODIFIED:20240904T184044Z
UID:13366-1728738000-1728743400@theateratmonmouth.org
SUMMARY:Romeo & Juliet
DESCRIPTION:The young\, ill-fated couple\, who unite only four brief times\, arguably engage in the greatest literary love story for the ages. They meet briefly across a crowded room; again\, on the same starry night\, when she is perched on her balcony and he is encumbered by the ground below; then when they exchange vows without celebration\, fulfilling a sacrament but inadvertently fueling their families’ feud; next in their wedding bed or a one-night affair; and\, ultimately\, when their beauty and youth bleed into eternity. Romeo and his Juliet have inspired more than 400 years of productions of the play\, an overture by Tchaikovsky\, a ballet by Prokofiev\, a musical that helped define the genre (1957’s West Side Story)\, an array of films (including Baz Luhrmann’s 1997 “Romeo + Juliet”)\, essentially every 2-minute-and-32-second pop song\, and a multitudes of other works of art.
URL:https://theateratmonmouth.org/event/romeo-juliet-2/
LOCATION:Cumston Hall\, 796 Main Street\, Monmouth \, ME\, 04259\, United States
CATEGORIES:ShakesME Tour
ATTACH;FMTTYPE=image/jpeg:https://theateratmonmouth.org/wp-content/uploads/2024/08/RnJ-Slider.jpg
END:VEVENT
BEGIN:VEVENT
DTSTART;TZID=America/New_York:20241012T193000
DTEND;TZID=America/New_York:20241012T210000
DTSTAMP:20260421T060440
CREATED:20240904T184137Z
LAST-MODIFIED:20240904T184137Z
UID:13369-1728761400-1728766800@theateratmonmouth.org
SUMMARY:Romeo & Juliet
DESCRIPTION:The young\, ill-fated couple\, who unite only four brief times\, arguably engage in the greatest literary love story for the ages. They meet briefly across a crowded room; again\, on the same starry night\, when she is perched on her balcony and he is encumbered by the ground below; then when they exchange vows without celebration\, fulfilling a sacrament but inadvertently fueling their families’ feud; next in their wedding bed or a one-night affair; and\, ultimately\, when their beauty and youth bleed into eternity. Romeo and his Juliet have inspired more than 400 years of productions of the play\, an overture by Tchaikovsky\, a ballet by Prokofiev\, a musical that helped define the genre (1957’s West Side Story)\, an array of films (including Baz Luhrmann’s 1997 “Romeo + Juliet”)\, essentially every 2-minute-and-32-second pop song\, and a multitudes of other works of art.
URL:https://theateratmonmouth.org/event/romeo-juliet-3/
LOCATION:Cumston Hall\, 796 Main Street\, Monmouth \, ME\, 04259\, United States
CATEGORIES:ShakesME Tour
ATTACH;FMTTYPE=image/jpeg:https://theateratmonmouth.org/wp-content/uploads/2024/08/RnJ-Slider.jpg
END:VEVENT
BEGIN:VEVENT
DTSTART;TZID=America/New_York:20241013T130000
DTEND;TZID=America/New_York:20241013T143000
DTSTAMP:20260421T060440
CREATED:20240904T183943Z
LAST-MODIFIED:20240930T163010Z
UID:13364-1728824400-1728829800@theateratmonmouth.org
SUMMARY:Romeo & Juliet
DESCRIPTION:The young\, ill-fated couple\, who unite only four brief times\, arguably engage in the greatest literary love story for the ages. They meet briefly across a crowded room; again\, on the same starry night\, when she is perched on her balcony and he is encumbered by the ground below; then when they exchange vows without celebration\, fulfilling a sacrament but inadvertently fueling their families’ feud; next in their wedding bed or a one-night affair; and\, ultimately\, when their beauty and youth bleed into eternity. Romeo and his Juliet have inspired more than 400 years of productions of the play\, an overture by Tchaikovsky\, a ballet by Prokofiev\, a musical that helped define the genre (1957’s West Side Story)\, an array of films (including Baz Luhrmann’s 1997 “Romeo + Juliet”)\, essentially every 2-minute-and-32-second pop song\, and a multitudes of other works of art.
URL:https://theateratmonmouth.org/event/romeo-juliet/
LOCATION:Cumston Hall\, 796 Main Street\, Monmouth \, ME\, 04259\, United States
CATEGORIES:ShakesME Tour
ATTACH;FMTTYPE=image/jpeg:https://theateratmonmouth.org/wp-content/uploads/2024/08/RnJ-Slider.jpg
END:VEVENT
END:VCALENDAR