BEGIN:VCALENDAR
VERSION:2.0
PRODID:-//The Theater at Monmouth - ECPv6.15.20//NONSGML v1.0//EN
CALSCALE:GREGORIAN
METHOD:PUBLISH
X-ORIGINAL-URL:https://theateratmonmouth.org
X-WR-CALDESC:Events for The Theater at Monmouth
REFRESH-INTERVAL;VALUE=DURATION:PT1H
X-Robots-Tag:noindex
X-PUBLISHED-TTL:PT1H
BEGIN:VTIMEZONE
TZID:America/New_York
BEGIN:DAYLIGHT
TZOFFSETFROM:-0500
TZOFFSETTO:-0400
TZNAME:EDT
DTSTART:20230312T070000
END:DAYLIGHT
BEGIN:STANDARD
TZOFFSETFROM:-0400
TZOFFSETTO:-0500
TZNAME:EST
DTSTART:20231105T060000
END:STANDARD
BEGIN:DAYLIGHT
TZOFFSETFROM:-0500
TZOFFSETTO:-0400
TZNAME:EDT
DTSTART:20240310T070000
END:DAYLIGHT
BEGIN:STANDARD
TZOFFSETFROM:-0400
TZOFFSETTO:-0500
TZNAME:EST
DTSTART:20241103T060000
END:STANDARD
BEGIN:DAYLIGHT
TZOFFSETFROM:-0500
TZOFFSETTO:-0400
TZNAME:EDT
DTSTART:20250309T070000
END:DAYLIGHT
BEGIN:STANDARD
TZOFFSETFROM:-0400
TZOFFSETTO:-0500
TZNAME:EST
DTSTART:20251102T060000
END:STANDARD
END:VTIMEZONE
BEGIN:VEVENT
DTSTART;TZID=America/New_York:20240627T193000
DTEND;TZID=America/New_York:20240627T220000
DTSTAMP:20260421T085748
CREATED:20240212T164223Z
LAST-MODIFIED:20240212T164223Z
UID:12938-1719516600-1719525600@theateratmonmouth.org
SUMMARY:Much Ado About Nothing
DESCRIPTION:Confirmed bachelor and soldier Benedick and bright and\, often belligerent\, Beatrice are obviously meant for one another. Their young proteges\, Hero and Claudio\, exude love as fresh as springtime dew. But fate has other plans for these two couples\, and while Benedick and Beatrice’s friends try to trick the pair into admitting their feelings\, the deceitful Don John tricks Claudio into believing that Hero has been unfaithful. It’ll take a wild mix of games\, pranks\, a disrupted wedding\, a faked death\, and the utter ineptitude of the local constable to set true love on the right course. Much Ado About Nothing is a sparkling screwball comedy filled with colorful characters\, passionate poetry\, and Shakespeare’s wittiest wordplay.
URL:https://theateratmonmouth.org/event/much-ado-about-nothing-6/
LOCATION:Cumston Hall\, 796 Main Street\, Monmouth \, ME\, 04259\, United States
CATEGORIES:Shakespeare,Summer Season
ATTACH;FMTTYPE=image/jpeg:https://theateratmonmouth.org/wp-content/uploads/2024/02/Much-Ado-Slider.jpg
END:VEVENT
BEGIN:VEVENT
DTSTART;TZID=America/New_York:20240628T193000
DTEND;TZID=America/New_York:20240628T220000
DTSTAMP:20260421T085748
CREATED:20240212T164341Z
LAST-MODIFIED:20240212T164341Z
UID:12940-1719603000-1719612000@theateratmonmouth.org
SUMMARY:Much Ado About Nothing
DESCRIPTION:Confirmed bachelor and soldier Benedick and bright and\, often belligerent\, Beatrice are obviously meant for one another. Their young proteges\, Hero and Claudio\, exude love as fresh as springtime dew. But fate has other plans for these two couples\, and while Benedick and Beatrice’s friends try to trick the pair into admitting their feelings\, the deceitful Don John tricks Claudio into believing that Hero has been unfaithful. It’ll take a wild mix of games\, pranks\, a disrupted wedding\, a faked death\, and the utter ineptitude of the local constable to set true love on the right course. Much Ado About Nothing is a sparkling screwball comedy filled with colorful characters\, passionate poetry\, and Shakespeare’s wittiest wordplay.
URL:https://theateratmonmouth.org/event/much-ado-about-nothing-7/
LOCATION:Cumston Hall\, 796 Main Street\, Monmouth \, ME\, 04259\, United States
CATEGORIES:Shakespeare,Summer Season
ATTACH;FMTTYPE=image/jpeg:https://theateratmonmouth.org/wp-content/uploads/2024/02/Much-Ado-Slider.jpg
END:VEVENT
END:VCALENDAR