BEGIN:VCALENDAR
VERSION:2.0
PRODID:-//The Theater at Monmouth - ECPv6.15.20//NONSGML v1.0//EN
CALSCALE:GREGORIAN
METHOD:PUBLISH
X-ORIGINAL-URL:https://theateratmonmouth.org
X-WR-CALDESC:Events for The Theater at Monmouth
REFRESH-INTERVAL;VALUE=DURATION:PT1H
X-Robots-Tag:noindex
X-PUBLISHED-TTL:PT1H
BEGIN:VTIMEZONE
TZID:America/New_York
BEGIN:DAYLIGHT
TZOFFSETFROM:-0500
TZOFFSETTO:-0400
TZNAME:EDT
DTSTART:20230312T070000
END:DAYLIGHT
BEGIN:STANDARD
TZOFFSETFROM:-0400
TZOFFSETTO:-0500
TZNAME:EST
DTSTART:20231105T060000
END:STANDARD
BEGIN:DAYLIGHT
TZOFFSETFROM:-0500
TZOFFSETTO:-0400
TZNAME:EDT
DTSTART:20240310T070000
END:DAYLIGHT
BEGIN:STANDARD
TZOFFSETFROM:-0400
TZOFFSETTO:-0500
TZNAME:EST
DTSTART:20241103T060000
END:STANDARD
BEGIN:DAYLIGHT
TZOFFSETFROM:-0500
TZOFFSETTO:-0400
TZNAME:EDT
DTSTART:20250309T070000
END:DAYLIGHT
BEGIN:STANDARD
TZOFFSETFROM:-0400
TZOFFSETTO:-0500
TZNAME:EST
DTSTART:20251102T060000
END:STANDARD
END:VTIMEZONE
BEGIN:VEVENT
DTSTART;TZID=America/New_York:20240525T130000
DTEND;TZID=America/New_York:20240525T140000
DTSTAMP:20260421T102232
CREATED:20240410T192559Z
LAST-MODIFIED:20240410T192559Z
UID:13116-1716642000-1716645600@theateratmonmouth.org
SUMMARY:The Velveteen Rabbit
DESCRIPTION:“When a child loves you for a long\, long time…then you become real.” So says the Rocking-Horse to the Velveteen Rabbit in Margery Williams’ literary classic. A toy rabbit\, given as a gift to a young boy\, yearns for the day the boy will choose her so that she can become real. Through love\, devotion\, and a little bit of magic her dream comes true in this heart-warming tale for dreamers of all ages.
URL:https://theateratmonmouth.org/event/the-velveteen-rabbit/
LOCATION:Cumston Hall\, 796 Main Street\, Monmouth \, ME\, 04259\, United States
CATEGORIES:Family Show
ATTACH;FMTTYPE=image/jpeg:https://theateratmonmouth.org/wp-content/uploads/2024/03/Velveteen-Rabbit-Slider.jpg
END:VEVENT
BEGIN:VEVENT
DTSTART;TZID=America/New_York:20240525T160000
DTEND;TZID=America/New_York:20240525T170000
DTSTAMP:20260421T102232
CREATED:20240410T192701Z
LAST-MODIFIED:20240410T192701Z
UID:13118-1716652800-1716656400@theateratmonmouth.org
SUMMARY:The Velveteen Rabbit
DESCRIPTION:“When a child loves you for a long\, long time…then you become real.” So says the Rocking-Horse to the Velveteen Rabbit in Margery Williams’ literary classic. A toy rabbit\, given as a gift to a young boy\, yearns for the day the boy will choose her so that she can become real. Through love\, devotion\, and a little bit of magic her dream comes true in this heart-warming tale for dreamers of all ages.
URL:https://theateratmonmouth.org/event/the-velveteen-rabbit-2/
LOCATION:Cumston Hall\, 796 Main Street\, Monmouth \, ME\, 04259\, United States
CATEGORIES:Family Show
ATTACH;FMTTYPE=image/jpeg:https://theateratmonmouth.org/wp-content/uploads/2024/03/Velveteen-Rabbit-Slider.jpg
END:VEVENT
BEGIN:VEVENT
DTSTART;TZID=America/New_York:20240526T130000
DTEND;TZID=America/New_York:20240526T140000
DTSTAMP:20260421T102232
CREATED:20240410T192809Z
LAST-MODIFIED:20240410T192809Z
UID:13120-1716728400-1716732000@theateratmonmouth.org
SUMMARY:The Velveteen Rabbit
DESCRIPTION:“When a child loves you for a long\, long time…then you become real.” So says the Rocking-Horse to the Velveteen Rabbit in Margery Williams’ literary classic. A toy rabbit\, given as a gift to a young boy\, yearns for the day the boy will choose her so that she can become real. Through love\, devotion\, and a little bit of magic her dream comes true in this heart-warming tale for dreamers of all ages.
URL:https://theateratmonmouth.org/event/the-velveteen-rabbit-3/
LOCATION:Cumston Hall\, 796 Main Street\, Monmouth \, ME\, 04259\, United States
CATEGORIES:Family Show
ATTACH;FMTTYPE=image/jpeg:https://theateratmonmouth.org/wp-content/uploads/2024/03/Velveteen-Rabbit-Slider.jpg
END:VEVENT
BEGIN:VEVENT
DTSTART;TZID=America/New_York:20240526T160000
DTEND;TZID=America/New_York:20240526T170000
DTSTAMP:20260421T102232
CREATED:20240410T192912Z
LAST-MODIFIED:20240410T192912Z
UID:13122-1716739200-1716742800@theateratmonmouth.org
SUMMARY:The Velveteen Rabbit
DESCRIPTION:“When a child loves you for a long\, long time…then you become real.” So says the Rocking-Horse to the Velveteen Rabbit in Margery Williams’ literary classic. A toy rabbit\, given as a gift to a young boy\, yearns for the day the boy will choose her so that she can become real. Through love\, devotion\, and a little bit of magic her dream comes true in this heart-warming tale for dreamers of all ages.
URL:https://theateratmonmouth.org/event/the-velveteen-rabbit-4/
LOCATION:Cumston Hall\, 796 Main Street\, Monmouth \, ME\, 04259\, United States
CATEGORIES:Family Show
ATTACH;FMTTYPE=image/jpeg:https://theateratmonmouth.org/wp-content/uploads/2024/03/Velveteen-Rabbit-Slider.jpg
END:VEVENT
END:VCALENDAR