BEGIN:VCALENDAR
VERSION:2.0
PRODID:-//The Theater at Monmouth - ECPv6.15.20//NONSGML v1.0//EN
CALSCALE:GREGORIAN
METHOD:PUBLISH
X-ORIGINAL-URL:https://theateratmonmouth.org
X-WR-CALDESC:Events for The Theater at Monmouth
REFRESH-INTERVAL;VALUE=DURATION:PT1H
X-Robots-Tag:noindex
X-PUBLISHED-TTL:PT1H
BEGIN:VTIMEZONE
TZID:America/New_York
BEGIN:DAYLIGHT
TZOFFSETFROM:-0500
TZOFFSETTO:-0400
TZNAME:EDT
DTSTART:20220313T070000
END:DAYLIGHT
BEGIN:STANDARD
TZOFFSETFROM:-0400
TZOFFSETTO:-0500
TZNAME:EST
DTSTART:20221106T060000
END:STANDARD
BEGIN:DAYLIGHT
TZOFFSETFROM:-0500
TZOFFSETTO:-0400
TZNAME:EDT
DTSTART:20230312T070000
END:DAYLIGHT
BEGIN:STANDARD
TZOFFSETFROM:-0400
TZOFFSETTO:-0500
TZNAME:EST
DTSTART:20231105T060000
END:STANDARD
BEGIN:DAYLIGHT
TZOFFSETFROM:-0500
TZOFFSETTO:-0400
TZNAME:EDT
DTSTART:20240310T070000
END:DAYLIGHT
BEGIN:STANDARD
TZOFFSETFROM:-0400
TZOFFSETTO:-0500
TZNAME:EST
DTSTART:20241103T060000
END:STANDARD
END:VTIMEZONE
BEGIN:VEVENT
DTSTART;TZID=America/New_York:20231020T193000
DTEND;TZID=America/New_York:20231020T210000
DTSTAMP:20260422T003459
CREATED:20231016T171146Z
LAST-MODIFIED:20231016T171146Z
UID:12810-1697830200-1697835600@theateratmonmouth.org
SUMMARY:Henry IV Part 1
DESCRIPTION:Henry IV Part 1 is the story of Prince Hal (the future King Henry V of England)\, a fifteenth century wild child who carouses with criminals and commoners\, helps his loser chums rob his father’s treasury\, and spends all his time in seedy bars. This\, of course\, all takes place before Prince Hal’s glorious “ reformation\,” when he transforms himself from a total disgrace into a noble leader\, who helps put down a rebel uprising that threatens his father’s reign\, and kills the guy who’s been bad-mouthing him all over England. Wow. Being a young prince is busy work\, and this is just Part 1 of the story.
URL:https://theateratmonmouth.org/event/henry-iv-part-1/
LOCATION:Cumston Hall\, 796 Main Street\, Monmouth \, ME\, 04259\, United States
CATEGORIES:ShakesME Tour,Shakespeare
ATTACH;FMTTYPE=image/jpeg:https://theateratmonmouth.org/wp-content/uploads/2023/09/ShakesME-Henry-IV-postcard.jpg
END:VEVENT
BEGIN:VEVENT
DTSTART;TZID=America/New_York:20231021T130000
DTEND;TZID=America/New_York:20231021T143000
DTSTAMP:20260422T003459
CREATED:20231016T171315Z
LAST-MODIFIED:20231016T171315Z
UID:12813-1697893200-1697898600@theateratmonmouth.org
SUMMARY:Henry IV Part 1
DESCRIPTION:Henry IV Part 1 is the story of Prince Hal (the future King Henry V of England)\, a fifteenth century wild child who carouses with criminals and commoners\, helps his loser chums rob his father’s treasury\, and spends all his time in seedy bars. This\, of course\, all takes place before Prince Hal’s glorious “ reformation\,” when he transforms himself from a total disgrace into a noble leader\, who helps put down a rebel uprising that threatens his father’s reign\, and kills the guy who’s been bad-mouthing him all over England. Wow. Being a young prince is busy work\, and this is just Part 1 of the story.
URL:https://theateratmonmouth.org/event/henry-iv-part-1-2/
LOCATION:Cumston Hall\, 796 Main Street\, Monmouth \, ME\, 04259\, United States
CATEGORIES:ShakesME Tour,Shakespeare
ATTACH;FMTTYPE=image/jpeg:https://theateratmonmouth.org/wp-content/uploads/2023/09/ShakesME-Henry-IV-postcard.jpg
END:VEVENT
BEGIN:VEVENT
DTSTART;TZID=America/New_York:20231021T193000
DTEND;TZID=America/New_York:20231021T210000
DTSTAMP:20260422T003459
CREATED:20231016T171415Z
LAST-MODIFIED:20231016T171415Z
UID:12816-1697916600-1697922000@theateratmonmouth.org
SUMMARY:Henry IV Part 1
DESCRIPTION:Henry IV Part 1 is the story of Prince Hal (the future King Henry V of England)\, a fifteenth century wild child who carouses with criminals and commoners\, helps his loser chums rob his father’s treasury\, and spends all his time in seedy bars. This\, of course\, all takes place before Prince Hal’s glorious “ reformation\,” when he transforms himself from a total disgrace into a noble leader\, who helps put down a rebel uprising that threatens his father’s reign\, and kills the guy who’s been bad-mouthing him all over England. Wow. Being a young prince is busy work\, and this is just Part 1 of the story.
URL:https://theateratmonmouth.org/event/henry-iv-part-1-3/
LOCATION:Cumston Hall\, 796 Main Street\, Monmouth \, ME\, 04259\, United States
CATEGORIES:ShakesME Tour,Shakespeare
ATTACH;FMTTYPE=image/jpeg:https://theateratmonmouth.org/wp-content/uploads/2023/09/ShakesME-Henry-IV-postcard.jpg
END:VEVENT
END:VCALENDAR