BEGIN:VCALENDAR
VERSION:2.0
PRODID:-//The Theater at Monmouth - ECPv6.15.20//NONSGML v1.0//EN
CALSCALE:GREGORIAN
METHOD:PUBLISH
X-WR-CALNAME:The Theater at Monmouth
X-ORIGINAL-URL:https://theateratmonmouth.org
X-WR-CALDESC:Events for The Theater at Monmouth
REFRESH-INTERVAL;VALUE=DURATION:PT1H
X-Robots-Tag:noindex
X-PUBLISHED-TTL:PT1H
BEGIN:VTIMEZONE
TZID:America/New_York
BEGIN:DAYLIGHT
TZOFFSETFROM:-0500
TZOFFSETTO:-0400
TZNAME:EDT
DTSTART:20220313T070000
END:DAYLIGHT
BEGIN:STANDARD
TZOFFSETFROM:-0400
TZOFFSETTO:-0500
TZNAME:EST
DTSTART:20221106T060000
END:STANDARD
BEGIN:DAYLIGHT
TZOFFSETFROM:-0500
TZOFFSETTO:-0400
TZNAME:EDT
DTSTART:20230312T070000
END:DAYLIGHT
BEGIN:STANDARD
TZOFFSETFROM:-0400
TZOFFSETTO:-0500
TZNAME:EST
DTSTART:20231105T060000
END:STANDARD
BEGIN:DAYLIGHT
TZOFFSETFROM:-0500
TZOFFSETTO:-0400
TZNAME:EDT
DTSTART:20240310T070000
END:DAYLIGHT
BEGIN:STANDARD
TZOFFSETFROM:-0400
TZOFFSETTO:-0500
TZNAME:EST
DTSTART:20241103T060000
END:STANDARD
END:VTIMEZONE
BEGIN:VEVENT
DTSTART;TZID=America/New_York:20230701T193000
DTEND;TZID=America/New_York:20230701T213000
DTSTAMP:20260422T053001
CREATED:20230214T183837Z
LAST-MODIFIED:20230214T183837Z
UID:12306-1688239800-1688247000@theateratmonmouth.org
SUMMARY:The Story of My Life
DESCRIPTION:The Story of My Life Follows the friendship of Alvin and Thomas\, two men from a small town. These lifelong friends are reunited after Alvin’s mysterious death. In the abstract world of his mind\, Thomas struggles to write Alvin’s eulogy while recounting the many turns that their lives have taken since meeting as children. Alvin searches through manuscripts and stories in Thomas’s mind to lead him on a journey of remembrance.
URL:https://theateratmonmouth.org/event/the-story-of-my-life/
LOCATION:Cumston Hall\, 796 Main Street\, Monmouth \, ME\, 04259\, United States
CATEGORIES:Summer Season
ATTACH;FMTTYPE=image/jpeg:https://theateratmonmouth.org/wp-content/uploads/2023/01/StoryOfMyLifeTileV3.2Final.jpg
END:VEVENT
BEGIN:VEVENT
DTSTART;TZID=America/New_York:20230708T193000
DTEND;TZID=America/New_York:20230708T210000
DTSTAMP:20260422T053001
CREATED:20230214T185159Z
LAST-MODIFIED:20230214T185159Z
UID:12322-1688844600-1688850000@theateratmonmouth.org
SUMMARY:An Iliad
DESCRIPTION:An Iliad is a modern-day retelling of Homer’s classic. Poetry and humor\, the ancient tale of the Trojan War\, and the modern world collide in this captivating theatrical experience. The setting is simple: the empty theater. The time is now: the present moment. The lone figure onstage is a storyteller—possibly\nHomer\, possibly one of the many bards who followed in his footsteps. He is fated to tell this story throughout history.
URL:https://theateratmonmouth.org/event/an-iliad-3/
LOCATION:Cumston Hall\, 796 Main Street\, Monmouth \, ME\, 04259\, United States
CATEGORIES:Summer Season
ATTACH;FMTTYPE=image/jpeg:https://theateratmonmouth.org/wp-content/uploads/2023/02/An-Iliad-New-slider.jpg
END:VEVENT
BEGIN:VEVENT
DTSTART;TZID=America/New_York:20230713T193000
DTEND;TZID=America/New_York:20230713T220000
DTSTAMP:20260422T053001
CREATED:20230214T200146Z
LAST-MODIFIED:20230214T200146Z
UID:12337-1689276600-1689285600@theateratmonmouth.org
SUMMARY:Richard II
DESCRIPTION:Richard II is dangerously out of touch with his kingdom. He wastes money\, raises taxes to support his lavish lifestyle\, plays favorites and cares more about his vanity than the common good. When Henry Bolingbroke—father of the future Henry V—challenges Richard for the throne\, it’s a fight the king can’t win. But in losing his crown he gains far greater things: his humanity and his soul. Shakespeare’s luminous\, poetic masterpiece is the first of four plays that chronicle the House of Lancaster’s rise and the beginning of the Wars of the Roses.
URL:https://theateratmonmouth.org/event/richard-ii/
LOCATION:Cumston Hall\, 796 Main Street\, Monmouth \, ME\, 04259\, United States
CATEGORIES:Shakespeare,Summer Season
END:VEVENT
BEGIN:VEVENT
DTSTART;TZID=America/New_York:20230714T193000
DTEND;TZID=America/New_York:20230714T220000
DTSTAMP:20260422T053001
CREATED:20230214T200334Z
LAST-MODIFIED:20230214T200334Z
UID:12339-1689363000-1689372000@theateratmonmouth.org
SUMMARY:Richard II
DESCRIPTION:Richard II is dangerously out of touch with his kingdom. He wastes money\, raises taxes to support his lavish lifestyle\, plays favorites and cares more about his vanity than the common good. When Henry Bolingbroke—father of the future Henry V—challenges Richard for the throne\, it’s a fight the king can’t win. But in losing his crown he gains far greater things: his humanity and his soul. Shakespeare’s luminous\, poetic masterpiece is the first of four plays that chronicle the House of Lancaster’s rise and the beginning of the Wars of the Roses.
URL:https://theateratmonmouth.org/event/richard-ii-2/
LOCATION:Cumston Hall\, 796 Main Street\, Monmouth \, ME\, 04259\, United States
CATEGORIES:Shakespeare,Summer Season
END:VEVENT
BEGIN:VEVENT
DTSTART;TZID=America/New_York:20230715T130000
DTEND;TZID=America/New_York:20230715T143000
DTSTAMP:20260422T053001
CREATED:20230214T190132Z
LAST-MODIFIED:20230517T181728Z
UID:12334-1689426000-1689431400@theateratmonmouth.org
SUMMARY:An Iliad
DESCRIPTION:An Iliad is a modern-day retelling of Homer’s classic. Poetry and humor\, the ancient tale of the Trojan War\, and the modern world collide in this captivating theatrical experience. The setting is simple: the empty theater. The time is now: the present moment. The lone figure onstage is a storyteller—possibly\nHomer\, possibly one of the many bards who followed in his footsteps. He is fated to tell this story throughout history.
URL:https://theateratmonmouth.org/event/an-iliad-15/
LOCATION:Cumston Hall\, 796 Main Street\, Monmouth \, ME\, 04259\, United States
CATEGORIES:Summer Season
ATTACH;FMTTYPE=image/jpeg:https://theateratmonmouth.org/wp-content/uploads/2023/02/An-Iliad-New-slider.jpg
END:VEVENT
BEGIN:VEVENT
DTSTART;TZID=America/New_York:20230715T193000
DTEND;TZID=America/New_York:20230715T213000
DTSTAMP:20260422T053001
CREATED:20230214T184158Z
LAST-MODIFIED:20230214T184158Z
UID:12309-1689449400-1689456600@theateratmonmouth.org
SUMMARY:The Story of My Life
DESCRIPTION:The Story of My Life Follows the friendship of Alvin and Thomas\, two men from a small town. These lifelong friends are reunited after Alvin’s mysterious death. In the abstract world of his mind\, Thomas struggles to write Alvin’s eulogy while recounting the many turns that their lives have taken since meeting as children. Alvin searches through manuscripts and stories in Thomas’s mind to lead him on a journey of remembrance.
URL:https://theateratmonmouth.org/event/the-story-of-my-life-2/
LOCATION:Cumston Hall\, 796 Main Street\, Monmouth \, ME\, 04259\, United States
CATEGORIES:Summer Season
ATTACH;FMTTYPE=image/jpeg:https://theateratmonmouth.org/wp-content/uploads/2023/01/StoryOfMyLifeTileV3.2Final.jpg
END:VEVENT
BEGIN:VEVENT
DTSTART;TZID=America/New_York:20230719T193000
DTEND;TZID=America/New_York:20230719T213000
DTSTAMP:20260422T053001
CREATED:20230214T184302Z
LAST-MODIFIED:20230214T184302Z
UID:12311-1689795000-1689802200@theateratmonmouth.org
SUMMARY:The Story of My Life
DESCRIPTION:The Story of My Life Follows the friendship of Alvin and Thomas\, two men from a small town. These lifelong friends are reunited after Alvin’s mysterious death. In the abstract world of his mind\, Thomas struggles to write Alvin’s eulogy while recounting the many turns that their lives have taken since meeting as children. Alvin searches through manuscripts and stories in Thomas’s mind to lead him on a journey of remembrance.
URL:https://theateratmonmouth.org/event/the-story-of-my-life-3/
LOCATION:Cumston Hall\, 796 Main Street\, Monmouth \, ME\, 04259\, United States
CATEGORIES:Summer Season
ATTACH;FMTTYPE=image/jpeg:https://theateratmonmouth.org/wp-content/uploads/2023/01/StoryOfMyLifeTileV3.2Final.jpg
END:VEVENT
BEGIN:VEVENT
DTSTART;TZID=America/New_York:20230720T193000
DTEND;TZID=America/New_York:20230720T220000
DTSTAMP:20260422T053001
CREATED:20230214T203941Z
LAST-MODIFIED:20230214T203941Z
UID:12354-1689881400-1689890400@theateratmonmouth.org
SUMMARY:The Importance of Being Earnest
DESCRIPTION:“A trivial comedy for serious people.” – Oscar Wilde \nJack and Algernon have chosen to lead double lives to evade the tedium of polite society. However\, when they attempt to win the love of two women who declare they will only love a man called Ernest – chaos reigns. The Importance of Being Earnest is a tale of mistaken identities\, rapid–fire wit\, and cucumber sandwiches. There may not be a funnier\, more socially insightful play chock–full of eccentric characters than this masterpiece by Oscar Wilde.
URL:https://theateratmonmouth.org/event/the-importance-of-being-earnest/
LOCATION:Cumston Hall\, 796 Main Street\, Monmouth \, ME\, 04259\, United States
CATEGORIES:Summer Season
ATTACH;FMTTYPE=image/jpeg:https://theateratmonmouth.org/wp-content/uploads/2023/02/Earnest-Slider.jpg
END:VEVENT
BEGIN:VEVENT
DTSTART;TZID=America/New_York:20230721T193000
DTEND;TZID=America/New_York:20230721T220000
DTSTAMP:20260422T053001
CREATED:20230214T204035Z
LAST-MODIFIED:20230214T204035Z
UID:12356-1689967800-1689976800@theateratmonmouth.org
SUMMARY:The Importance of Being Earnest
DESCRIPTION:“A trivial comedy for serious people.” – Oscar Wilde \nJack and Algernon have chosen to lead double lives to evade the tedium of polite society. However\, when they attempt to win the love of two women who declare they will only love a man called Ernest – chaos reigns. The Importance of Being Earnest is a tale of mistaken identities\, rapid–fire wit\, and cucumber sandwiches. There may not be a funnier\, more socially insightful play chock–full of eccentric characters than this masterpiece by Oscar Wilde.
URL:https://theateratmonmouth.org/event/the-importance-of-being-earnest-2/
LOCATION:Cumston Hall\, 796 Main Street\, Monmouth \, ME\, 04259\, United States
CATEGORIES:Summer Season
ATTACH;FMTTYPE=image/jpeg:https://theateratmonmouth.org/wp-content/uploads/2023/02/Earnest-Slider.jpg
END:VEVENT
BEGIN:VEVENT
DTSTART;TZID=America/New_York:20230722T193000
DTEND;TZID=America/New_York:20230722T220000
DTSTAMP:20260422T053001
CREATED:20230214T200449Z
LAST-MODIFIED:20230214T200449Z
UID:12341-1690054200-1690063200@theateratmonmouth.org
SUMMARY:Richard II
DESCRIPTION:Richard II is dangerously out of touch with his kingdom. He wastes money\, raises taxes to support his lavish lifestyle\, plays favorites and cares more about his vanity than the common good. When Henry Bolingbroke—father of the future Henry V—challenges Richard for the throne\, it’s a fight the king can’t win. But in losing his crown he gains far greater things: his humanity and his soul. Shakespeare’s luminous\, poetic masterpiece is the first of four plays that chronicle the House of Lancaster’s rise and the beginning of the Wars of the Roses.
URL:https://theateratmonmouth.org/event/richard-ii-3/
LOCATION:Cumston Hall\, 796 Main Street\, Monmouth \, ME\, 04259\, United States
CATEGORIES:Shakespeare,Summer Season
END:VEVENT
BEGIN:VEVENT
DTSTART;TZID=America/New_York:20230726T193000
DTEND;TZID=America/New_York:20230726T220000
DTSTAMP:20260422T053001
CREATED:20230214T200607Z
LAST-MODIFIED:20230214T200607Z
UID:12343-1690399800-1690408800@theateratmonmouth.org
SUMMARY:Richard II
DESCRIPTION:Richard II is dangerously out of touch with his kingdom. He wastes money\, raises taxes to support his lavish lifestyle\, plays favorites and cares more about his vanity than the common good. When Henry Bolingbroke—father of the future Henry V—challenges Richard for the throne\, it’s a fight the king can’t win. But in losing his crown he gains far greater things: his humanity and his soul. Shakespeare’s luminous\, poetic masterpiece is the first of four plays that chronicle the House of Lancaster’s rise and the beginning of the Wars of the Roses.
URL:https://theateratmonmouth.org/event/richard-ii-4/
LOCATION:Cumston Hall\, 796 Main Street\, Monmouth \, ME\, 04259\, United States
CATEGORIES:Shakespeare,Summer Season
END:VEVENT
BEGIN:VEVENT
DTSTART;TZID=America/New_York:20230727T193000
DTEND;TZID=America/New_York:20230727T210000
DTSTAMP:20260422T053001
CREATED:20230214T204633Z
LAST-MODIFIED:20230214T204633Z
UID:12366-1690486200-1690491600@theateratmonmouth.org
SUMMARY:As You Like It
DESCRIPTION:Welcome to Arden. This is the story of Rosalind. Oppressed and exiled from Court under threat of death\, she escapes with her cousin\, cross-dressed and gartered\, into the wild and unpredictable Forest of Arden. Disguised as a boy\, she creates a world of her choosing\, reveling in her newfound agency and\nself-discovery. But chance encounters with the love-struck Orlando complicate her new adventure. All the world’s a stage in As You Like It\, Shakespeare’s gender-bending comedy\, where poetry\, mistaken identities\, and true loves lost and found abound.
URL:https://theateratmonmouth.org/event/as-you-like-it-4/
LOCATION:Cumston Hall\, 796 Main Street\, Monmouth \, ME\, 04259\, United States
CATEGORIES:Shakespeare,Summer Season
ATTACH;FMTTYPE=image/jpeg:https://theateratmonmouth.org/wp-content/uploads/2022/09/ShakesME-As-You-Like-It.jpg
END:VEVENT
BEGIN:VEVENT
DTSTART;TZID=America/New_York:20230728T193000
DTEND;TZID=America/New_York:20230728T210000
DTSTAMP:20260422T053001
CREATED:20230214T204720Z
LAST-MODIFIED:20230214T204720Z
UID:12368-1690572600-1690578000@theateratmonmouth.org
SUMMARY:As You Like It
DESCRIPTION:Welcome to Arden. This is the story of Rosalind. Oppressed and exiled from Court under threat of death\, she escapes with her cousin\, cross-dressed and gartered\, into the wild and unpredictable Forest of Arden. Disguised as a boy\, she creates a world of her choosing\, reveling in her newfound agency and\nself-discovery. But chance encounters with the love-struck Orlando complicate her new adventure. All the world’s a stage in As You Like It\, Shakespeare’s gender-bending comedy\, where poetry\, mistaken identities\, and true loves lost and found abound.
URL:https://theateratmonmouth.org/event/as-you-like-it-5/
LOCATION:Cumston Hall\, 796 Main Street\, Monmouth \, ME\, 04259\, United States
CATEGORIES:Shakespeare,Summer Season
ATTACH;FMTTYPE=image/jpeg:https://theateratmonmouth.org/wp-content/uploads/2022/09/ShakesME-As-You-Like-It.jpg
END:VEVENT
BEGIN:VEVENT
DTSTART;TZID=America/New_York:20230729T130000
DTEND;TZID=America/New_York:20230729T140000
DTSTAMP:20260422T053001
CREATED:20230214T205736Z
LAST-MODIFIED:20230517T182217Z
UID:12386-1690635600-1690639200@theateratmonmouth.org
SUMMARY:The Importance of Being Earnest
DESCRIPTION:“A trivial comedy for serious people.” – Oscar Wilde \nJack and Algernon have chosen to lead double lives to evade the tedium of polite society. However\, when they attempt to win the love of two women who declare they will only love a man called Ernest – chaos reigns. The Importance of Being Earnest is a tale of mistaken identities\, rapid–fire wit\, and cucumber sandwiches. There may not be a funnier\, more socially insightful play chock–full of eccentric characters than this masterpiece by Oscar Wilde.
URL:https://theateratmonmouth.org/event/tall-tales-twice-told-4/
LOCATION:Cumston Hall\, 796 Main Street\, Monmouth \, ME\, 04259\, United States
CATEGORIES:Summer Season
ATTACH;FMTTYPE=image/jpeg:https://theateratmonmouth.org/wp-content/uploads/2023/02/Earnest-Slider.jpg
END:VEVENT
BEGIN:VEVENT
DTSTART;TZID=America/New_York:20230729T193000
DTEND;TZID=America/New_York:20230729T220000
DTSTAMP:20260422T053001
CREATED:20230214T204133Z
LAST-MODIFIED:20230214T204133Z
UID:12358-1690659000-1690668000@theateratmonmouth.org
SUMMARY:The Importance of Being Earnest
DESCRIPTION:“A trivial comedy for serious people.” – Oscar Wilde \nJack and Algernon have chosen to lead double lives to evade the tedium of polite society. However\, when they attempt to win the love of two women who declare they will only love a man called Ernest – chaos reigns. The Importance of Being Earnest is a tale of mistaken identities\, rapid–fire wit\, and cucumber sandwiches. There may not be a funnier\, more socially insightful play chock–full of eccentric characters than this masterpiece by Oscar Wilde.
URL:https://theateratmonmouth.org/event/the-importance-of-being-earnest-3/
LOCATION:Cumston Hall\, 796 Main Street\, Monmouth \, ME\, 04259\, United States
CATEGORIES:Summer Season
ATTACH;FMTTYPE=image/jpeg:https://theateratmonmouth.org/wp-content/uploads/2023/02/Earnest-Slider.jpg
END:VEVENT
BEGIN:VEVENT
DTSTART;TZID=America/New_York:20230730T130000
DTEND;TZID=America/New_York:20230730T150000
DTSTAMP:20260422T053001
CREATED:20230214T184410Z
LAST-MODIFIED:20230214T184410Z
UID:12313-1690722000-1690729200@theateratmonmouth.org
SUMMARY:The Story of My Life
DESCRIPTION:The Story of My Life Follows the friendship of Alvin and Thomas\, two men from a small town. These lifelong friends are reunited after Alvin’s mysterious death. In the abstract world of his mind\, Thomas struggles to write Alvin’s eulogy while recounting the many turns that their lives have taken since meeting as children. Alvin searches through manuscripts and stories in Thomas’s mind to lead him on a journey of remembrance.
URL:https://theateratmonmouth.org/event/the-story-of-my-life-4/
LOCATION:Cumston Hall\, 796 Main Street\, Monmouth \, ME\, 04259\, United States
CATEGORIES:Summer Season
ATTACH;FMTTYPE=image/jpeg:https://theateratmonmouth.org/wp-content/uploads/2023/01/StoryOfMyLifeTileV3.2Final.jpg
END:VEVENT
BEGIN:VEVENT
DTSTART;TZID=America/New_York:20230730T190000
DTEND;TZID=America/New_York:20230730T210000
DTSTAMP:20260422T053001
CREATED:20230214T204808Z
LAST-MODIFIED:20230517T182433Z
UID:12370-1690743600-1690750800@theateratmonmouth.org
SUMMARY:As You Like It
DESCRIPTION:Welcome to Arden. This is the story of Rosalind. Oppressed and exiled from Court under threat of death\, she escapes with her cousin\, cross-dressed and gartered\, into the wild and unpredictable Forest of Arden. Disguised as a boy\, she creates a world of her choosing\, reveling in her newfound agency and\nself-discovery. But chance encounters with the love-struck Orlando complicate her new adventure. All the world’s a stage in As You Like It\, Shakespeare’s gender-bending comedy\, where poetry\, mistaken identities\, and true loves lost and found abound.
URL:https://theateratmonmouth.org/event/as-you-like-it-6/
LOCATION:Cumston Hall\, 796 Main Street\, Monmouth \, ME\, 04259\, United States
CATEGORIES:Shakespeare,Summer Season
ATTACH;FMTTYPE=image/jpeg:https://theateratmonmouth.org/wp-content/uploads/2022/09/ShakesME-As-You-Like-It.jpg
END:VEVENT
END:VCALENDAR