BEGIN:VCALENDAR
VERSION:2.0
PRODID:-//The Theater at Monmouth - ECPv6.15.20//NONSGML v1.0//EN
CALSCALE:GREGORIAN
METHOD:PUBLISH
X-WR-CALNAME:The Theater at Monmouth
X-ORIGINAL-URL:https://theateratmonmouth.org
X-WR-CALDESC:Events for The Theater at Monmouth
REFRESH-INTERVAL;VALUE=DURATION:PT1H
X-Robots-Tag:noindex
X-PUBLISHED-TTL:PT1H
BEGIN:VTIMEZONE
TZID:America/New_York
BEGIN:DAYLIGHT
TZOFFSETFROM:-0500
TZOFFSETTO:-0400
TZNAME:EDT
DTSTART:20210314T070000
END:DAYLIGHT
BEGIN:STANDARD
TZOFFSETFROM:-0400
TZOFFSETTO:-0500
TZNAME:EST
DTSTART:20211107T060000
END:STANDARD
BEGIN:DAYLIGHT
TZOFFSETFROM:-0500
TZOFFSETTO:-0400
TZNAME:EDT
DTSTART:20220313T070000
END:DAYLIGHT
BEGIN:STANDARD
TZOFFSETFROM:-0400
TZOFFSETTO:-0500
TZNAME:EST
DTSTART:20221106T060000
END:STANDARD
BEGIN:DAYLIGHT
TZOFFSETFROM:-0500
TZOFFSETTO:-0400
TZNAME:EDT
DTSTART:20230312T070000
END:DAYLIGHT
BEGIN:STANDARD
TZOFFSETFROM:-0400
TZOFFSETTO:-0500
TZNAME:EST
DTSTART:20231105T060000
END:STANDARD
END:VTIMEZONE
BEGIN:VEVENT
DTSTART;TZID=America/New_York:20221201T193000
DTEND;TZID=America/New_York:20221201T210000
DTSTAMP:20260422T155515
CREATED:20221015T001222Z
LAST-MODIFIED:20221015T001222Z
UID:12150-1669923000-1669928400@theateratmonmouth.org
SUMMARY:Jacob Marley's Christmas Carol
DESCRIPTION:“Marley was dead\, to begin with…” —and what happens to Ebenezer Scrooge’s mean\, sour\, pruney old business partner after that? Chained and shackled\, Marley is condemned to a hellish eternity. He’s even given his own private tormentor: a malicious little hell-sprite who thoroughly enjoys his work. Desperate\, Marley accepts his one chance to free himself: To escape his own chains\, he must first redeem Scrooge. So begins a journey of laughter and terror\, redemption and renewal\, during which Scrooge’s heart\, indeed\, is opened; but not before Marley discovers his own.
URL:https://theateratmonmouth.org/event/jacob-marleys-christmas-carol-6/
LOCATION:Cumston Hall\, 796 Main Street\, Monmouth \, ME\, 04259\, United States
CATEGORIES:Holiday Show
ATTACH;FMTTYPE=image/jpeg:https://theateratmonmouth.org/wp-content/uploads/2022/10/JMCC-Slider-1.jpg
END:VEVENT
BEGIN:VEVENT
DTSTART;TZID=America/New_York:20221202T193000
DTEND;TZID=America/New_York:20221202T210000
DTSTAMP:20260422T155515
CREATED:20221015T001337Z
LAST-MODIFIED:20221015T001337Z
UID:12152-1670009400-1670014800@theateratmonmouth.org
SUMMARY:Jacob Marley's Christmas Carol
DESCRIPTION:“Marley was dead\, to begin with…” —and what happens to Ebenezer Scrooge’s mean\, sour\, pruney old business partner after that? Chained and shackled\, Marley is condemned to a hellish eternity. He’s even given his own private tormentor: a malicious little hell-sprite who thoroughly enjoys his work. Desperate\, Marley accepts his one chance to free himself: To escape his own chains\, he must first redeem Scrooge. So begins a journey of laughter and terror\, redemption and renewal\, during which Scrooge’s heart\, indeed\, is opened; but not before Marley discovers his own.
URL:https://theateratmonmouth.org/event/jacob-marleys-christmas-carol-7/
LOCATION:Cumston Hall\, 796 Main Street\, Monmouth \, ME\, 04259\, United States
CATEGORIES:Holiday Show
ATTACH;FMTTYPE=image/jpeg:https://theateratmonmouth.org/wp-content/uploads/2022/10/JMCC-Slider-1.jpg
END:VEVENT
BEGIN:VEVENT
DTSTART;TZID=America/New_York:20221203T130000
DTEND;TZID=America/New_York:20221203T143000
DTSTAMP:20260422T155515
CREATED:20221015T001437Z
LAST-MODIFIED:20221015T001437Z
UID:12154-1670072400-1670077800@theateratmonmouth.org
SUMMARY:Jacob Marley's Christmas Carol
DESCRIPTION:“Marley was dead\, to begin with…” —and what happens to Ebenezer Scrooge’s mean\, sour\, pruney old business partner after that? Chained and shackled\, Marley is condemned to a hellish eternity. He’s even given his own private tormentor: a malicious little hell-sprite who thoroughly enjoys his work. Desperate\, Marley accepts his one chance to free himself: To escape his own chains\, he must first redeem Scrooge. So begins a journey of laughter and terror\, redemption and renewal\, during which Scrooge’s heart\, indeed\, is opened; but not before Marley discovers his own.
URL:https://theateratmonmouth.org/event/jacob-marleys-christmas-carol-8/
LOCATION:Cumston Hall\, 796 Main Street\, Monmouth \, ME\, 04259\, United States
CATEGORIES:Holiday Show
ATTACH;FMTTYPE=image/jpeg:https://theateratmonmouth.org/wp-content/uploads/2022/10/JMCC-Slider-1.jpg
END:VEVENT
BEGIN:VEVENT
DTSTART;TZID=America/New_York:20221203T193000
DTEND;TZID=America/New_York:20221203T210000
DTSTAMP:20260422T155515
CREATED:20221015T001548Z
LAST-MODIFIED:20221015T001548Z
UID:12156-1670095800-1670101200@theateratmonmouth.org
SUMMARY:Jacob Marley's Christmas Carol
DESCRIPTION:“Marley was dead\, to begin with…” —and what happens to Ebenezer Scrooge’s mean\, sour\, pruney old business partner after that? Chained and shackled\, Marley is condemned to a hellish eternity. He’s even given his own private tormentor: a malicious little hell-sprite who thoroughly enjoys his work. Desperate\, Marley accepts his one chance to free himself: To escape his own chains\, he must first redeem Scrooge. So begins a journey of laughter and terror\, redemption and renewal\, during which Scrooge’s heart\, indeed\, is opened; but not before Marley discovers his own.
URL:https://theateratmonmouth.org/event/jacob-marleys-christmas-carol-9/
LOCATION:Cumston Hall\, 796 Main Street\, Monmouth \, ME\, 04259\, United States
CATEGORIES:Holiday Show
ATTACH;FMTTYPE=image/jpeg:https://theateratmonmouth.org/wp-content/uploads/2022/10/JMCC-Slider-1.jpg
END:VEVENT
BEGIN:VEVENT
DTSTART;TZID=America/New_York:20221204T130000
DTEND;TZID=America/New_York:20221204T143000
DTSTAMP:20260422T155515
CREATED:20221015T001659Z
LAST-MODIFIED:20221015T001659Z
UID:12158-1670158800-1670164200@theateratmonmouth.org
SUMMARY:Jacob Marley's Christmas Carol
DESCRIPTION:“Marley was dead\, to begin with…” —and what happens to Ebenezer Scrooge’s mean\, sour\, pruney old business partner after that? Chained and shackled\, Marley is condemned to a hellish eternity. He’s even given his own private tormentor: a malicious little hell-sprite who thoroughly enjoys his work. Desperate\, Marley accepts his one chance to free himself: To escape his own chains\, he must first redeem Scrooge. So begins a journey of laughter and terror\, redemption and renewal\, during which Scrooge’s heart\, indeed\, is opened; but not before Marley discovers his own.
URL:https://theateratmonmouth.org/event/jacob-marleys-christmas-carol-10/
LOCATION:Cumston Hall\, 796 Main Street\, Monmouth \, ME\, 04259\, United States
CATEGORIES:Holiday Show
ATTACH;FMTTYPE=image/jpeg:https://theateratmonmouth.org/wp-content/uploads/2022/10/JMCC-Slider-1.jpg
END:VEVENT
END:VCALENDAR