BEGIN:VCALENDAR
VERSION:2.0
PRODID:-//The Theater at Monmouth - ECPv6.15.20//NONSGML v1.0//EN
CALSCALE:GREGORIAN
METHOD:PUBLISH
X-ORIGINAL-URL:https://theateratmonmouth.org
X-WR-CALDESC:Events for The Theater at Monmouth
REFRESH-INTERVAL;VALUE=DURATION:PT1H
X-Robots-Tag:noindex
X-PUBLISHED-TTL:PT1H
BEGIN:VTIMEZONE
TZID:America/New_York
BEGIN:DAYLIGHT
TZOFFSETFROM:-0500
TZOFFSETTO:-0400
TZNAME:EDT
DTSTART:20210314T070000
END:DAYLIGHT
BEGIN:STANDARD
TZOFFSETFROM:-0400
TZOFFSETTO:-0500
TZNAME:EST
DTSTART:20211107T060000
END:STANDARD
BEGIN:DAYLIGHT
TZOFFSETFROM:-0500
TZOFFSETTO:-0400
TZNAME:EDT
DTSTART:20220313T070000
END:DAYLIGHT
BEGIN:STANDARD
TZOFFSETFROM:-0400
TZOFFSETTO:-0500
TZNAME:EST
DTSTART:20221106T060000
END:STANDARD
BEGIN:DAYLIGHT
TZOFFSETFROM:-0500
TZOFFSETTO:-0400
TZNAME:EDT
DTSTART:20230312T070000
END:DAYLIGHT
BEGIN:STANDARD
TZOFFSETFROM:-0400
TZOFFSETTO:-0500
TZNAME:EST
DTSTART:20231105T060000
END:STANDARD
END:VTIMEZONE
BEGIN:VEVENT
DTSTART;TZID=America/New_York:20221124T193000
DTEND;TZID=America/New_York:20221124T210000
DTSTAMP:20260422T174611
CREATED:20221014T190458Z
LAST-MODIFIED:20221014T190458Z
UID:12139-1669318200-1669323600@theateratmonmouth.org
SUMMARY:Jacob Marley's Christmas Carol
DESCRIPTION:“Marley was dead\, to begin with…” —and what happens to Ebenezer Scrooge’s mean\, sour\, pruney old business partner after that? Chained and shackled\, Marley is condemned to a hellish eternity. He’s even given his own private tormentor: a malicious little hell-sprite who thoroughly enjoys his work. Desperate\, Marley accepts his one chance to free himself: To escape his own chains\, he must first redeem Scrooge. So begins a journey of laughter and terror\, redemption and renewal\, during which Scrooge’s heart\, indeed\, is opened; but not before Marley discovers his own.
URL:https://theateratmonmouth.org/event/jacob-marleys-christmas-carol/
LOCATION:Cumston Hall\, 796 Main Street\, Monmouth \, ME\, 04259\, United States
CATEGORIES:Holiday Show
ATTACH;FMTTYPE=image/jpeg:https://theateratmonmouth.org/wp-content/uploads/2022/10/JMCC-Slider-1.jpg
END:VEVENT
BEGIN:VEVENT
DTSTART;TZID=America/New_York:20221125T193000
DTEND;TZID=America/New_York:20221125T210000
DTSTAMP:20260422T174611
CREATED:20221014T190848Z
LAST-MODIFIED:20221014T190848Z
UID:12142-1669404600-1669410000@theateratmonmouth.org
SUMMARY:Jacob Marley's Christmas Carol
DESCRIPTION:“Marley was dead\, to begin with…” —and what happens to Ebenezer Scrooge’s mean\, sour\, pruney old business partner after that? Chained and shackled\, Marley is condemned to a hellish eternity. He’s even given his own private tormentor: a malicious little hell-sprite who thoroughly enjoys his work. Desperate\, Marley accepts his one chance to free himself: To escape his own chains\, he must first redeem Scrooge. So begins a journey of laughter and terror\, redemption and renewal\, during which Scrooge’s heart\, indeed\, is opened; but not before Marley discovers his own.
URL:https://theateratmonmouth.org/event/jacob-marleys-christmas-carol-2/
LOCATION:Cumston Hall\, 796 Main Street\, Monmouth \, ME\, 04259\, United States
CATEGORIES:Holiday Show
ATTACH;FMTTYPE=image/jpeg:https://theateratmonmouth.org/wp-content/uploads/2022/10/JMCC-Slider-1.jpg
END:VEVENT
BEGIN:VEVENT
DTSTART;TZID=America/New_York:20221126T130000
DTEND;TZID=America/New_York:20221126T143000
DTSTAMP:20260422T174611
CREATED:20221014T191010Z
LAST-MODIFIED:20221014T191010Z
UID:12144-1669467600-1669473000@theateratmonmouth.org
SUMMARY:Jacob Marley's Christmas Carol
DESCRIPTION:“Marley was dead\, to begin with…” —and what happens to Ebenezer Scrooge’s mean\, sour\, pruney old business partner after that? Chained and shackled\, Marley is condemned to a hellish eternity. He’s even given his own private tormentor: a malicious little hell-sprite who thoroughly enjoys his work. Desperate\, Marley accepts his one chance to free himself: To escape his own chains\, he must first redeem Scrooge. So begins a journey of laughter and terror\, redemption and renewal\, during which Scrooge’s heart\, indeed\, is opened; but not before Marley discovers his own.
URL:https://theateratmonmouth.org/event/jacob-marleys-christmas-carol-3/
LOCATION:Cumston Hall\, 796 Main Street\, Monmouth \, ME\, 04259\, United States
CATEGORIES:Holiday Show
ATTACH;FMTTYPE=image/jpeg:https://theateratmonmouth.org/wp-content/uploads/2022/10/JMCC-Slider-1.jpg
END:VEVENT
BEGIN:VEVENT
DTSTART;TZID=America/New_York:20221126T193000
DTEND;TZID=America/New_York:20221126T210000
DTSTAMP:20260422T174611
CREATED:20221014T191118Z
LAST-MODIFIED:20221014T191118Z
UID:12146-1669491000-1669496400@theateratmonmouth.org
SUMMARY:Jacob Marley's Christmas Carol
DESCRIPTION:“Marley was dead\, to begin with…” —and what happens to Ebenezer Scrooge’s mean\, sour\, pruney old business partner after that? Chained and shackled\, Marley is condemned to a hellish eternity. He’s even given his own private tormentor: a malicious little hell-sprite who thoroughly enjoys his work. Desperate\, Marley accepts his one chance to free himself: To escape his own chains\, he must first redeem Scrooge. So begins a journey of laughter and terror\, redemption and renewal\, during which Scrooge’s heart\, indeed\, is opened; but not before Marley discovers his own.
URL:https://theateratmonmouth.org/event/jacob-marleys-christmas-carol-4/
LOCATION:Cumston Hall\, 796 Main Street\, Monmouth \, ME\, 04259\, United States
CATEGORIES:Holiday Show
ATTACH;FMTTYPE=image/jpeg:https://theateratmonmouth.org/wp-content/uploads/2022/10/JMCC-Slider-1.jpg
END:VEVENT
BEGIN:VEVENT
DTSTART;TZID=America/New_York:20221127T130000
DTEND;TZID=America/New_York:20221127T143000
DTSTAMP:20260422T174611
CREATED:20221014T191635Z
LAST-MODIFIED:20221014T191635Z
UID:12148-1669554000-1669559400@theateratmonmouth.org
SUMMARY:Jacob Marley's Christmas Carol
DESCRIPTION:“Marley was dead\, to begin with…” —and what happens to Ebenezer Scrooge’s mean\, sour\, pruney old business partner after that? Chained and shackled\, Marley is condemned to a hellish eternity. He’s even given his own private tormentor: a malicious little hell-sprite who thoroughly enjoys his work. Desperate\, Marley accepts his one chance to free himself: To escape his own chains\, he must first redeem Scrooge. So begins a journey of laughter and terror\, redemption and renewal\, during which Scrooge’s heart\, indeed\, is opened; but not before Marley discovers his own.
URL:https://theateratmonmouth.org/event/jacob-marleys-christmas-carol-5/
LOCATION:Cumston Hall\, 796 Main Street\, Monmouth \, ME\, 04259\, United States
CATEGORIES:Holiday Show
ATTACH;FMTTYPE=image/jpeg:https://theateratmonmouth.org/wp-content/uploads/2022/10/JMCC-Slider-1.jpg
END:VEVENT
END:VCALENDAR