BEGIN:VCALENDAR
VERSION:2.0
PRODID:-//The Theater at Monmouth - ECPv6.15.20//NONSGML v1.0//EN
CALSCALE:GREGORIAN
METHOD:PUBLISH
X-WR-CALNAME:The Theater at Monmouth
X-ORIGINAL-URL:https://theateratmonmouth.org
X-WR-CALDESC:Events for The Theater at Monmouth
REFRESH-INTERVAL;VALUE=DURATION:PT1H
X-Robots-Tag:noindex
X-PUBLISHED-TTL:PT1H
BEGIN:VTIMEZONE
TZID:America/New_York
BEGIN:DAYLIGHT
TZOFFSETFROM:-0500
TZOFFSETTO:-0400
TZNAME:EDT
DTSTART:20210314T070000
END:DAYLIGHT
BEGIN:STANDARD
TZOFFSETFROM:-0400
TZOFFSETTO:-0500
TZNAME:EST
DTSTART:20211107T060000
END:STANDARD
BEGIN:DAYLIGHT
TZOFFSETFROM:-0500
TZOFFSETTO:-0400
TZNAME:EDT
DTSTART:20220313T070000
END:DAYLIGHT
BEGIN:STANDARD
TZOFFSETFROM:-0400
TZOFFSETTO:-0500
TZNAME:EST
DTSTART:20221106T060000
END:STANDARD
BEGIN:DAYLIGHT
TZOFFSETFROM:-0500
TZOFFSETTO:-0400
TZNAME:EDT
DTSTART:20230312T070000
END:DAYLIGHT
BEGIN:STANDARD
TZOFFSETFROM:-0400
TZOFFSETTO:-0500
TZNAME:EST
DTSTART:20231105T060000
END:STANDARD
END:VTIMEZONE
BEGIN:VEVENT
DTSTART;TZID=America/New_York:20221014T193000
DTEND;TZID=America/New_York:20221014T210000
DTSTAMP:20260422T192154
CREATED:20220923T145048Z
LAST-MODIFIED:20220923T145048Z
UID:12097-1665775800-1665781200@theateratmonmouth.org
SUMMARY:As You Like It
DESCRIPTION:Welcome to Arden. This is the story of Rosalind. Oppressed and exiled from Court under threat of death\, she escapes with her cousin\, cross-dressed and gartered\, into the wild and unpredictable Forest of Arden. Disguised as a boy\, she creates a world of her choosing\, reveling in her newfound agency and self-discovery. But chance encounters with the love-struck\nOrlando complicate her new adventure. All the world’s a stage in As You Like It\, Shakespeare’s gender-bending comedy\, where poetry\, mistaken identities\, and true loves lost and found abound.
URL:https://theateratmonmouth.org/event/as-you-like-it/
LOCATION:Cumston Hall\, 796 Main Street\, Monmouth \, ME\, 04259\, United States
CATEGORIES:ShakesME Tour
ATTACH;FMTTYPE=image/jpeg:https://theateratmonmouth.org/wp-content/uploads/2022/09/ShakesME-As-You-Like-It.jpg
END:VEVENT
BEGIN:VEVENT
DTSTART;TZID=America/New_York:20221015T130000
DTEND;TZID=America/New_York:20221015T143000
DTSTAMP:20260422T192154
CREATED:20220923T145417Z
LAST-MODIFIED:20220923T145417Z
UID:12100-1665838800-1665844200@theateratmonmouth.org
SUMMARY:As You Like It
DESCRIPTION:Welcome to Arden. This is the story of Rosalind. Oppressed and exiled from Court\nunder threat of death\, she escapes with her cousin\, cross-dressed and gartered\, into the wild and\nunpredictable Forest of Arden. Disguised as a boy\, she creates a world of her choosing\, reveling in\nher newfound agency and self-discovery. But chance encounters with the love-struck\nOrlando complicate her new adventure. All the world’s a stage in As You Like It\, Shakespeare’s\ngender-bending comedy\, where poetry\, mistaken identities\, and true loves lost and found abound.
URL:https://theateratmonmouth.org/event/as-you-like-it-2/
LOCATION:Cumston Hall\, 796 Main Street\, Monmouth \, ME\, 04259\, United States
CATEGORIES:ShakesME Tour
ATTACH;FMTTYPE=image/jpeg:https://theateratmonmouth.org/wp-content/uploads/2022/09/ShakesME-As-You-Like-It.jpg
END:VEVENT
BEGIN:VEVENT
DTSTART;TZID=America/New_York:20221015T193000
DTEND;TZID=America/New_York:20221015T210000
DTSTAMP:20260422T192154
CREATED:20220923T150001Z
LAST-MODIFIED:20220923T150001Z
UID:12102-1665862200-1665867600@theateratmonmouth.org
SUMMARY:As You Like It
DESCRIPTION:Welcome to Arden. This is the story of Rosalind. Oppressed and exiled from Court\nunder threat of death\, she escapes with her cousin\, cross-dressed and gartered\, into the wild and\nunpredictable Forest of Arden. Disguised as a boy\, she creates a world of her choosing\, reveling in\nher newfound agency and self-discovery. But chance encounters with the love-struck\nOrlando complicate her new adventure. All the world’s a stage in As You Like It\, Shakespeare’s\ngender-bending comedy\, where poetry\, mistaken identities\, and true loves lost and found abound.
URL:https://theateratmonmouth.org/event/as-you-like-it-3/
LOCATION:Cumston Hall\, 796 Main Street\, Monmouth \, ME\, 04259\, United States
CATEGORIES:ShakesME Tour
ATTACH;FMTTYPE=image/jpeg:https://theateratmonmouth.org/wp-content/uploads/2022/09/ShakesME-As-You-Like-It.jpg
END:VEVENT
END:VCALENDAR