BEGIN:VCALENDAR
VERSION:2.0
PRODID:-//The Theater at Monmouth - ECPv6.15.20//NONSGML v1.0//EN
CALSCALE:GREGORIAN
METHOD:PUBLISH
X-ORIGINAL-URL:https://theateratmonmouth.org
X-WR-CALDESC:Events for The Theater at Monmouth
REFRESH-INTERVAL;VALUE=DURATION:PT1H
X-Robots-Tag:noindex
X-PUBLISHED-TTL:PT1H
BEGIN:VTIMEZONE
TZID:America/New_York
BEGIN:DAYLIGHT
TZOFFSETFROM:-0500
TZOFFSETTO:-0400
TZNAME:EDT
DTSTART:20210314T070000
END:DAYLIGHT
BEGIN:STANDARD
TZOFFSETFROM:-0400
TZOFFSETTO:-0500
TZNAME:EST
DTSTART:20211107T060000
END:STANDARD
BEGIN:DAYLIGHT
TZOFFSETFROM:-0500
TZOFFSETTO:-0400
TZNAME:EDT
DTSTART:20220313T070000
END:DAYLIGHT
BEGIN:STANDARD
TZOFFSETFROM:-0400
TZOFFSETTO:-0500
TZNAME:EST
DTSTART:20221106T060000
END:STANDARD
BEGIN:DAYLIGHT
TZOFFSETFROM:-0500
TZOFFSETTO:-0400
TZNAME:EDT
DTSTART:20230312T070000
END:DAYLIGHT
BEGIN:STANDARD
TZOFFSETFROM:-0400
TZOFFSETTO:-0500
TZNAME:EST
DTSTART:20231105T060000
END:STANDARD
END:VTIMEZONE
BEGIN:VEVENT
DTSTART;TZID=America/New_York:20220915T193000
DTEND;TZID=America/New_York:20220915T210000
DTSTAMP:20260422T205042
CREATED:20220318T160034Z
LAST-MODIFIED:20220318T160034Z
UID:11653-1663270200-1663275600@theateratmonmouth.org
SUMMARY:A Midsummer Night's Dream
DESCRIPTION:Preview/ Monmouth Night \nHermia loves Lysander\, Demetrius loves Hermia\, Helena loves Demetrius\, Theseus and Hippolyta are almost newlyweds and the already-complex marriage of the immortal Queen and King of Fairyland was rocky even before one of them fell for an amateur actor-turned-ass. Run away to the Forest of Arden with young lovers\, a rag tag group of amateur actors\, and one mischievous sprite in Shakespeare’s most beloved comedy.
URL:https://theateratmonmouth.org/event/a-midsummer-nights-dream/
LOCATION:Cumston Hall\, 796 Main Street\, Monmouth \, ME\, 04259\, United States
CATEGORIES:Fall Play,Shakespeare
ATTACH;FMTTYPE=image/jpeg:https://theateratmonmouth.org/wp-content/uploads/2022/03/Midsummer_slider.jpg
END:VEVENT
BEGIN:VEVENT
DTSTART;TZID=America/New_York:20220916T193000
DTEND;TZID=America/New_York:20220916T210000
DTSTAMP:20260422T205042
CREATED:20220318T160258Z
LAST-MODIFIED:20220318T160258Z
UID:11656-1663356600-1663362000@theateratmonmouth.org
SUMMARY:A Midsummer Night's Dream
DESCRIPTION:Opening Night \nHermia loves Lysander\, Demetrius loves Hermia\, Helena loves Demetrius\, Thesus and Hippolyta are almost newlyweds and the already-complex marriage of the immortal Queen and King of Fairyland was rocky even before one of them fell for an amateur actor-turned-ass. Run away to the Forest of Arden with young lovers\, a rag tag group of amateur actors\, and one mischievous sprite in Shakespeare’s most beloved comedy.
URL:https://theateratmonmouth.org/event/a-midsummer-nights-dream-2/
LOCATION:Cumston Hall\, 796 Main Street\, Monmouth \, ME\, 04259\, United States
CATEGORIES:Fall Play,Shakespeare
ATTACH;FMTTYPE=image/jpeg:https://theateratmonmouth.org/wp-content/uploads/2022/03/Midsummer_slider.jpg
END:VEVENT
BEGIN:VEVENT
DTSTART;TZID=America/New_York:20220917T130000
DTEND;TZID=America/New_York:20220917T143000
DTSTAMP:20260422T205042
CREATED:20220318T160415Z
LAST-MODIFIED:20220318T160415Z
UID:11658-1663419600-1663425000@theateratmonmouth.org
SUMMARY:A Midsummer Night's Dream
DESCRIPTION:Hermia loves Lysander\, Demetrius loves Hermia\, Helena loves Demetrius\, Thesus and Hippolyta are almost newlyweds and the already-complex marriage of the immortal Queen and King of Fairyland was rocky even before one of them fell for an amateur actor-turned-ass. Run away to the Forest of Arden with young lovers\, a rag tag group of amateur actors\, and one mischievous sprite in Shakespeare’s most beloved comedy.
URL:https://theateratmonmouth.org/event/a-midsummer-nights-dream-3/
LOCATION:Cumston Hall\, 796 Main Street\, Monmouth \, ME\, 04259\, United States
CATEGORIES:Fall Play,Shakespeare
ATTACH;FMTTYPE=image/jpeg:https://theateratmonmouth.org/wp-content/uploads/2022/03/Midsummer_slider.jpg
END:VEVENT
BEGIN:VEVENT
DTSTART;TZID=America/New_York:20220917T193000
DTEND;TZID=America/New_York:20220917T210000
DTSTAMP:20260422T205042
CREATED:20220318T160523Z
LAST-MODIFIED:20220318T160523Z
UID:11660-1663443000-1663448400@theateratmonmouth.org
SUMMARY:A Midsummer Night's Dream
DESCRIPTION:Hermia loves Lysander\, Demetrius loves Hermia\, Helena loves Demetrius\, Thesus and Hippolyta are almost newlyweds and the already-complex marriage of the immortal Queen and King of Fairyland was rocky even before one of them fell for an amateur actor-turned-ass. Run away to the Forest of Arden with young lovers\, a rag tag group of amateur actors\, and one mischievous sprite in Shakespeare’s most beloved comedy.
URL:https://theateratmonmouth.org/event/a-midsummer-nights-dream-4/
LOCATION:Cumston Hall\, 796 Main Street\, Monmouth \, ME\, 04259\, United States
CATEGORIES:Fall Play,Shakespeare
ATTACH;FMTTYPE=image/jpeg:https://theateratmonmouth.org/wp-content/uploads/2022/03/Midsummer_slider.jpg
END:VEVENT
BEGIN:VEVENT
DTSTART;TZID=America/New_York:20220918T130000
DTEND;TZID=America/New_York:20220918T143000
DTSTAMP:20260422T205042
CREATED:20220318T160636Z
LAST-MODIFIED:20220318T160636Z
UID:11662-1663506000-1663511400@theateratmonmouth.org
SUMMARY:A Midsummer Night's Dream
DESCRIPTION:Hermia loves Lysander\, Demetrius loves Hermia\, Helena loves Demetrius\, Thesus and Hippolyta are almost newlyweds and the already-complex marriage of the immortal Queen and King of Fairyland was rocky even before one of them fell for an amateur actor-turned-ass. Run away to the Forest of Arden with young lovers\, a rag tag group of amateur actors\, and one mischievous sprite in Shakespeare’s most beloved comedy.
URL:https://theateratmonmouth.org/event/a-midsummer-nights-dream-5/
LOCATION:Cumston Hall\, 796 Main Street\, Monmouth \, ME\, 04259\, United States
CATEGORIES:Fall Play,Shakespeare
ATTACH;FMTTYPE=image/jpeg:https://theateratmonmouth.org/wp-content/uploads/2022/03/Midsummer_slider.jpg
END:VEVENT
BEGIN:VEVENT
DTSTART;TZID=America/New_York:20220922T193000
DTEND;TZID=America/New_York:20220922T210000
DTSTAMP:20260422T205042
CREATED:20220318T160751Z
LAST-MODIFIED:20220318T160751Z
UID:11664-1663875000-1663880400@theateratmonmouth.org
SUMMARY:A Midsummer Night's Dream
DESCRIPTION:Hermia loves Lysander\, Demetrius loves Hermia\, Helena loves Demetrius\, Thesus and Hippolyta are almost newlyweds and the already-complex marriage of the immortal Queen and King of Fairyland was rocky even before one of them fell for an amateur actor-turned-ass. Run away to the Forest of Arden with young lovers\, a rag tag group of amateur actors\, and one mischievous sprite in Shakespeare’s most beloved comedy.
URL:https://theateratmonmouth.org/event/a-midsummer-nights-dream-6/
LOCATION:Cumston Hall\, 796 Main Street\, Monmouth \, ME\, 04259\, United States
CATEGORIES:Fall Play,Shakespeare
ATTACH;FMTTYPE=image/jpeg:https://theateratmonmouth.org/wp-content/uploads/2022/03/Midsummer_slider.jpg
END:VEVENT
BEGIN:VEVENT
DTSTART;TZID=America/New_York:20220923T193000
DTEND;TZID=America/New_York:20220923T210000
DTSTAMP:20260422T205042
CREATED:20220318T160859Z
LAST-MODIFIED:20220318T160859Z
UID:11666-1663961400-1663966800@theateratmonmouth.org
SUMMARY:A Midsummer Night's Dream
DESCRIPTION:Hermia loves Lysander\, Demetrius loves Hermia\, Helena loves Demetrius\, Thesus and Hippolyta are almost newlyweds and the already-complex marriage of the immortal Queen and King of Fairyland was rocky even before one of them fell for an amateur actor-turned-ass. Run away to the Forest of Arden with young lovers\, a rag tag group of amateur actors\, and one mischievous sprite in Shakespeare’s most beloved comedy.
URL:https://theateratmonmouth.org/event/a-midsummer-nights-dream-7/
LOCATION:Cumston Hall\, 796 Main Street\, Monmouth \, ME\, 04259\, United States
CATEGORIES:Fall Play,Shakespeare
ATTACH;FMTTYPE=image/jpeg:https://theateratmonmouth.org/wp-content/uploads/2022/03/Midsummer_slider.jpg
END:VEVENT
BEGIN:VEVENT
DTSTART;TZID=America/New_York:20220924T130000
DTEND;TZID=America/New_York:20220924T143000
DTSTAMP:20260422T205042
CREATED:20220318T161054Z
LAST-MODIFIED:20220318T161054Z
UID:11668-1664024400-1664029800@theateratmonmouth.org
SUMMARY:A Midsummer Night's Dream
DESCRIPTION:Hermia loves Lysander\, Demetrius loves Hermia\, Helena loves Demetrius\, Thesus and Hippolyta are almost newlyweds and the already-complex marriage of the immortal Queen and King of Fairyland was rocky even before one of them fell for an amateur actor-turned-ass. Run away to the Forest of Arden with young lovers\, a rag tag group of amateur actors\, and one mischievous sprite in Shakespeare’s most beloved comedy.
URL:https://theateratmonmouth.org/event/a-midsummer-nights-dream-8/
LOCATION:Cumston Hall\, 796 Main Street\, Monmouth \, ME\, 04259\, United States
CATEGORIES:Fall Play,Shakespeare
ATTACH;FMTTYPE=image/jpeg:https://theateratmonmouth.org/wp-content/uploads/2022/03/Midsummer_slider.jpg
END:VEVENT
BEGIN:VEVENT
DTSTART;TZID=America/New_York:20220924T193000
DTEND;TZID=America/New_York:20220924T210000
DTSTAMP:20260422T205042
CREATED:20220318T161202Z
LAST-MODIFIED:20220318T161202Z
UID:11670-1664047800-1664053200@theateratmonmouth.org
SUMMARY:A Midsummer Night's Dream
DESCRIPTION:Hermia loves Lysander\, Demetrius loves Hermia\, Helena loves Demetrius\, Thesus and Hippolyta are almost newlyweds and the already-complex marriage of the immortal Queen and King of Fairyland was rocky even before one of them fell for an amateur actor-turned-ass. Run away to the Forest of Arden with young lovers\, a rag tag group of amateur actors\, and one mischievous sprite in Shakespeare’s most beloved comedy.
URL:https://theateratmonmouth.org/event/a-midsummer-nights-dream-9/
LOCATION:Cumston Hall\, 796 Main Street\, Monmouth \, ME\, 04259\, United States
CATEGORIES:Fall Play,Shakespeare
ATTACH;FMTTYPE=image/jpeg:https://theateratmonmouth.org/wp-content/uploads/2022/03/Midsummer_slider.jpg
END:VEVENT
BEGIN:VEVENT
DTSTART;TZID=America/New_York:20220925T130000
DTEND;TZID=America/New_York:20220925T143000
DTSTAMP:20260422T205042
CREATED:20220318T161323Z
LAST-MODIFIED:20220318T161323Z
UID:11672-1664110800-1664116200@theateratmonmouth.org
SUMMARY:A Midsummer Night's Dream
DESCRIPTION:Hermia loves Lysander\, Demetrius loves Hermia\, Helena loves Demetrius\, Thesus and Hippolyta are almost newlyweds and the already-complex marriage of the immortal Queen and King of Fairyland was rocky even before one of them fell for an amateur actor-turned-ass. Run away to the Forest of Arden with young lovers\, a rag tag group of amateur actors\, and one mischievous sprite in Shakespeare’s most beloved comedy.
URL:https://theateratmonmouth.org/event/a-midsummer-nights-dream-10/
LOCATION:Cumston Hall\, 796 Main Street\, Monmouth \, ME\, 04259\, United States
CATEGORIES:Fall Play,Shakespeare
ATTACH;FMTTYPE=image/jpeg:https://theateratmonmouth.org/wp-content/uploads/2022/03/Midsummer_slider.jpg
END:VEVENT
END:VCALENDAR