BEGIN:VCALENDAR
VERSION:2.0
PRODID:-//The Theater at Monmouth - ECPv6.15.20//NONSGML v1.0//EN
CALSCALE:GREGORIAN
METHOD:PUBLISH
X-WR-CALNAME:The Theater at Monmouth
X-ORIGINAL-URL:https://theateratmonmouth.org
X-WR-CALDESC:Events for The Theater at Monmouth
REFRESH-INTERVAL;VALUE=DURATION:PT1H
X-Robots-Tag:noindex
X-PUBLISHED-TTL:PT1H
BEGIN:VTIMEZONE
TZID:America/New_York
BEGIN:DAYLIGHT
TZOFFSETFROM:-0500
TZOFFSETTO:-0400
TZNAME:EDT
DTSTART:20200308T070000
END:DAYLIGHT
BEGIN:STANDARD
TZOFFSETFROM:-0400
TZOFFSETTO:-0500
TZNAME:EST
DTSTART:20201101T060000
END:STANDARD
BEGIN:DAYLIGHT
TZOFFSETFROM:-0500
TZOFFSETTO:-0400
TZNAME:EDT
DTSTART:20210314T070000
END:DAYLIGHT
BEGIN:STANDARD
TZOFFSETFROM:-0400
TZOFFSETTO:-0500
TZNAME:EST
DTSTART:20211107T060000
END:STANDARD
BEGIN:DAYLIGHT
TZOFFSETFROM:-0500
TZOFFSETTO:-0400
TZNAME:EDT
DTSTART:20220313T070000
END:DAYLIGHT
BEGIN:STANDARD
TZOFFSETFROM:-0400
TZOFFSETTO:-0500
TZNAME:EST
DTSTART:20221106T060000
END:STANDARD
END:VTIMEZONE
BEGIN:VEVENT
DTSTART;TZID=America/New_York:20210902T193000
DTEND;TZID=America/New_York:20210902T210000
DTSTAMP:20260423T152826
CREATED:20210714T183055Z
LAST-MODIFIED:20210819T210751Z
UID:10649-1630611000-1630616400@theateratmonmouth.org
SUMMARY:An Iliad
DESCRIPTION:(Preview Night) \nby Lisa Peterson and Denis O’Hare\ndirected by Bill Van Horn\nSponsored by DR Struck Landscape Nursery \nAn Illiad is a modern-day retelling of Homer’s classic. Poetry and humor\, the ancient tale of the Trojan War\, and the modern world collide in this captivating theatrical experience. The setting is simple: the empty theater. The time is now: the present moment. The lone figure onstage is a storyteller—possibly Homer\, possibly one of the many bards who followed in his footsteps. He is fated to tell this story throughout history.
URL:https://theateratmonmouth.org/event/an-iliad/
LOCATION:Cumston Hall\, 796 Main Street\, Monmouth \, ME\, 04259\, United States
CATEGORIES:Fall Play
END:VEVENT
BEGIN:VEVENT
DTSTART;TZID=America/New_York:20210903T193000
DTEND;TZID=America/New_York:20210903T210000
DTSTAMP:20260423T152826
CREATED:20210714T183303Z
LAST-MODIFIED:20210819T210807Z
UID:10651-1630697400-1630702800@theateratmonmouth.org
SUMMARY:An Iliad
DESCRIPTION:(Opening Night) \nby Lisa Peterson and Denis O’Hare\ndirected by Bill Van Horn\nSponsored by DR Struck Landscape Nursery \nAn Illiad is a modern-day retelling of Homer’s classic. Poetry and humor\, the ancient tale of the Trojan War\, and the modern world collide in this captivating theatrical experience. The setting is simple: the empty theater. The time is now: the present moment. The lone figure onstage is a storyteller—possibly Homer\, possibly one of the many bards who followed in his footsteps. He is fated to tell this story throughout history.
URL:https://theateratmonmouth.org/event/an-iliad-2/
LOCATION:Cumston Hall\, 796 Main Street\, Monmouth \, ME\, 04259\, United States
CATEGORIES:Fall Play
END:VEVENT
BEGIN:VEVENT
DTSTART;TZID=America/New_York:20210904T193000
DTEND;TZID=America/New_York:20210904T210000
DTSTAMP:20260423T152826
CREATED:20210714T183448Z
LAST-MODIFIED:20210819T210819Z
UID:10655-1630783800-1630789200@theateratmonmouth.org
SUMMARY:An Iliad
DESCRIPTION:by Lisa Peterson and Denis O’Hare\ndirected by Bill Van Horn\nSponsored by DR Struck Landscape Nursery \nAn Illiad is a modern-day retelling of Homer’s classic. Poetry and humor\, the ancient tale of the Trojan War\, and the modern world collide in this captivating theatrical experience. The setting is simple: the empty theater. The time is now: the present moment. The lone figure onstage is a storyteller—possibly Homer\, possibly one of the many bards who followed in his footsteps. He is fated to tell this story throughout history.
URL:https://theateratmonmouth.org/event/an-iliad-4/
LOCATION:Cumston Hall\, 796 Main Street\, Monmouth \, ME\, 04259\, United States
CATEGORIES:Fall Play
END:VEVENT
BEGIN:VEVENT
DTSTART;TZID=America/New_York:20210905T130000
DTEND;TZID=America/New_York:20210905T143000
DTSTAMP:20260423T152827
CREATED:20210714T183559Z
LAST-MODIFIED:20210819T210824Z
UID:10657-1630846800-1630852200@theateratmonmouth.org
SUMMARY:An Iliad
DESCRIPTION:by Lisa Peterson and Denis O’Hare\ndirected by Bill Van Horn\nSponsored by DR Struck Landscape Nursery \nAn Illiad is a modern-day retelling of Homer’s classic. Poetry and humor\, the ancient tale of the Trojan War\, and the modern world collide in this captivating theatrical experience. The setting is simple: the empty theater. The time is now: the present moment. The lone figure onstage is a storyteller—possibly Homer\, possibly one of the many bards who followed in his footsteps. He is fated to tell this story throughout history.
URL:https://theateratmonmouth.org/event/an-iliad-5/
LOCATION:Cumston Hall\, 796 Main Street\, Monmouth \, ME\, 04259\, United States
CATEGORIES:Fall Play
END:VEVENT
BEGIN:VEVENT
DTSTART;TZID=America/New_York:20210908T193000
DTEND;TZID=America/New_York:20210908T210000
DTSTAMP:20260423T152827
CREATED:20210714T183943Z
LAST-MODIFIED:20210819T211557Z
UID:10659-1631129400-1631134800@theateratmonmouth.org
SUMMARY:An Iliad
DESCRIPTION:by Lisa Peterson and Denis O’Hare\ndirected by Bill Van Horn\nSponsored by DR Struck Landscape Nursery \nAn Illiad is a modern-day retelling of Homer’s classic. Poetry and humor\, the ancient tale of the Trojan War\, and the modern world collide in this captivating theatrical experience. The setting is simple: the empty theater. The time is now: the present moment. The lone figure onstage is a storyteller—possibly Homer\, possibly one of the many bards who followed in his footsteps. He is fated to tell this story throughout history.
URL:https://theateratmonmouth.org/event/an-iliad-6/
LOCATION:Cumston Hall\, 796 Main Street\, Monmouth \, ME\, 04259\, United States
CATEGORIES:Fall Play
END:VEVENT
BEGIN:VEVENT
DTSTART;TZID=America/New_York:20210910T193000
DTEND;TZID=America/New_York:20210910T210000
DTSTAMP:20260423T152827
CREATED:20210714T184317Z
LAST-MODIFIED:20210819T211019Z
UID:10665-1631302200-1631307600@theateratmonmouth.org
SUMMARY:An Iliad
DESCRIPTION:by Lisa Peterson and Denis O’Hare\ndirected by Bill Van Horn\nSponsored by DR Struck Landscape Nursery \nAn Illiad is a modern-day retelling of Homer’s classic. Poetry and humor\, the ancient tale of the Trojan War\, and the modern world collide in this captivating theatrical experience. The setting is simple: the empty theater. The time is now: the present moment. The lone figure onstage is a storyteller—possibly Homer\, possibly one of the many bards who followed in his footsteps. He is fated to tell this story throughout history.
URL:https://theateratmonmouth.org/event/an-iliad-9/
LOCATION:Cumston Hall\, 796 Main Street\, Monmouth \, ME\, 04259\, United States
CATEGORIES:Fall Play
END:VEVENT
BEGIN:VEVENT
DTSTART;TZID=America/New_York:20210911T130000
DTEND;TZID=America/New_York:20210911T143000
DTSTAMP:20260423T152827
CREATED:20210714T184627Z
LAST-MODIFIED:20210819T211011Z
UID:10667-1631365200-1631370600@theateratmonmouth.org
SUMMARY:An Iliad
DESCRIPTION:by Lisa Peterson and Denis O’Hare\ndirected by Bill Van Horn\nSponsored by DR Struck Landscape Nursery \nAn Illiad is a modern-day retelling of Homer’s classic. Poetry and humor\, the ancient tale of the Trojan War\, and the modern world collide in this captivating theatrical experience. The setting is simple: the empty theater. The time is now: the present moment. The lone figure onstage is a storyteller—possibly Homer\, possibly one of the many bards who followed in his footsteps. He is fated to tell this story throughout history.
URL:https://theateratmonmouth.org/event/an-iliad-10/
LOCATION:Cumston Hall\, 796 Main Street\, Monmouth \, ME\, 04259\, United States
CATEGORIES:Fall Play
END:VEVENT
BEGIN:VEVENT
DTSTART;TZID=America/New_York:20210911T193000
DTEND;TZID=America/New_York:20210911T210000
DTSTAMP:20260423T152827
CREATED:20210714T184824Z
LAST-MODIFIED:20210819T211025Z
UID:10669-1631388600-1631394000@theateratmonmouth.org
SUMMARY:An Iliad
DESCRIPTION:(Closing Performance) \nby Lisa Peterson and Denis O’Hare\ndirected by Bill Van Horn\nSponsored by DR Struck Landscape Nursery \nAn Illiad is a modern-day retelling of Homer’s classic. Poetry and humor\, the ancient tale of the Trojan War\, and the modern world collide in this captivating theatrical experience. The setting is simple: the empty theater. The time is now: the present moment. The lone figure onstage is a storyteller—possibly Homer\, possibly one of the many bards who followed in his footsteps. He is fated to tell this story throughout history.
URL:https://theateratmonmouth.org/event/an-iliad-11/
LOCATION:Cumston Hall\, 796 Main Street\, Monmouth \, ME\, 04259\, United States
CATEGORIES:Fall Play
END:VEVENT
BEGIN:VEVENT
DTSTART;TZID=America/New_York:20210916T193000
DTEND;TZID=America/New_York:20210916T210000
DTSTAMP:20260423T152827
CREATED:20210714T190805Z
LAST-MODIFIED:20210916T182753Z
UID:10671-1631820600-1631826000@theateratmonmouth.org
SUMMARY:Grounded
DESCRIPTION:(Monmouth/Preview Night) \nby George Brant\ndirected by Dawn McAndrews \nAn F-16 fighter pilot is reassigned to the Air Force’s drone program\, piloting a remote-controlled Reaper in the Middle East from an air conditioned trailer outside of Las Vegas. Confronted with the challenge of fighting a war by day and being a wife and mother by night\, she struggles to compartmentalize her existence as her two realities become increasingly permeable. \nRecommended for ages 16+
URL:https://theateratmonmouth.org/event/grounded/
LOCATION:Cumston Hall\, 796 Main Street\, Monmouth \, ME\, 04259\, United States
CATEGORIES:Fall Play
END:VEVENT
BEGIN:VEVENT
DTSTART;TZID=America/New_York:20210917T193000
DTEND;TZID=America/New_York:20210917T210000
DTSTAMP:20260423T152827
CREATED:20210714T190906Z
LAST-MODIFIED:20210916T183207Z
UID:10673-1631907000-1631912400@theateratmonmouth.org
SUMMARY:Grounded
DESCRIPTION:(Opening Night) \nby George Brant\ndirected by Dawn McAndrews \nAn F-16 fighter pilot is reassigned to the Air Force’s drone program\, piloting a remote-controlled Reaper in the Middle East from an air conditioned trailer outside of Las Vegas. Confronted with the challenge of fighting a war by day and being a wife and mother by night\, she struggles to compartmentalize her existence as her two realities become increasingly permeable. \nRecommended ages 16+
URL:https://theateratmonmouth.org/event/grounded-2/
LOCATION:Cumston Hall\, 796 Main Street\, Monmouth \, ME\, 04259\, United States
CATEGORIES:Fall Play
END:VEVENT
BEGIN:VEVENT
DTSTART;TZID=America/New_York:20210918T130000
DTEND;TZID=America/New_York:20210918T143000
DTSTAMP:20260423T152827
CREATED:20210714T191426Z
LAST-MODIFIED:20210916T183934Z
UID:10681-1631970000-1631975400@theateratmonmouth.org
SUMMARY:Grounded
DESCRIPTION:by George Brant\ndirected by Dawn McAndrews \nAn F-16 fighter pilot is reassigned to the Air Force’s drone program\, piloting a remote-controlled Reaper in the Middle East from an air conditioned trailer outside of Las Vegas. Confronted with the challenge of fighting a war by day and being a wife and mother by night\, she struggles to compartmentalize her existence as her two realities become increasingly permeable. \nRecommended ages 16+
URL:https://theateratmonmouth.org/event/grounded-3/
LOCATION:Cumston Hall\, 796 Main Street\, Monmouth \, ME\, 04259\, United States
CATEGORIES:Fall Play
END:VEVENT
BEGIN:VEVENT
DTSTART;TZID=America/New_York:20210919T130000
DTEND;TZID=America/New_York:20210919T143000
DTSTAMP:20260423T152827
CREATED:20210714T191551Z
LAST-MODIFIED:20210916T183840Z
UID:10685-1632056400-1632061800@theateratmonmouth.org
SUMMARY:Grounded
DESCRIPTION:by George Brant\ndirected by Dawn McAndrews \nAn F-16 fighter pilot is reassigned to the Air Force’s drone program\, piloting a remote-controlled Reaper in the Middle East from an air conditioned trailer outside of Las Vegas. Confronted with the challenge of fighting a war by day and being a wife and mother by night\, she struggles to compartmentalize her existence as her two realities become increasingly permeable. \nRecommended ages 16+
URL:https://theateratmonmouth.org/event/grounded-5/
LOCATION:Cumston Hall\, 796 Main Street\, Monmouth \, ME\, 04259\, United States
CATEGORIES:Fall Play
END:VEVENT
BEGIN:VEVENT
DTSTART;TZID=America/New_York:20210923T193000
DTEND;TZID=America/New_York:20210923T210000
DTSTAMP:20260423T152827
CREATED:20210714T191746Z
LAST-MODIFIED:20210916T183821Z
UID:10689-1632425400-1632430800@theateratmonmouth.org
SUMMARY:Grounded
DESCRIPTION:by George Brant\ndirected by Dawn McAndrews \nAn F-16 fighter pilot is reassigned to the Air Force’s drone program\, piloting a remote-controlled Reaper in the Middle East from an air conditioned trailer outside of Las Vegas. Confronted with the challenge of fighting a war by day and being a wife and mother by night\, she struggles to compartmentalize her existence as her two realities become increasingly permeable. \nRecommended ages 16+
URL:https://theateratmonmouth.org/event/grounded-7/
LOCATION:Cumston Hall\, 796 Main Street\, Monmouth \, ME\, 04259\, United States
CATEGORIES:Fall Play
END:VEVENT
BEGIN:VEVENT
DTSTART;TZID=America/New_York:20210924T193000
DTEND;TZID=America/New_York:20210924T210000
DTSTAMP:20260423T152827
CREATED:20210714T192155Z
LAST-MODIFIED:20210916T183528Z
UID:10691-1632511800-1632517200@theateratmonmouth.org
SUMMARY:Grounded
DESCRIPTION:by George Brant\ndirected by Dawn McAndrews \nAn F-16 fighter pilot is reassigned to the Air Force’s drone program\, piloting a remote-controlled Reaper in the Middle East from an air conditioned trailer outside of Las Vegas. Confronted with the challenge of fighting a war by day and being a wife and mother by night\, she struggles to compartmentalize her existence as her two realities become increasingly permeable. \nRecommended ages 16+
URL:https://theateratmonmouth.org/event/grounded-8/
LOCATION:Cumston Hall\, 796 Main Street\, Monmouth \, ME\, 04259\, United States
CATEGORIES:Fall Play
END:VEVENT
BEGIN:VEVENT
DTSTART;TZID=America/New_York:20210925T130000
DTEND;TZID=America/New_York:20210925T143000
DTSTAMP:20260423T152827
CREATED:20210714T192522Z
LAST-MODIFIED:20210916T184046Z
UID:10693-1632574800-1632580200@theateratmonmouth.org
SUMMARY:Grounded
DESCRIPTION:by George Brant\ndirected by Dawn McAndrews \nAn F-16 fighter pilot is reassigned to the Air Force’s drone program\, piloting a remote-controlled Reaper in the Middle East from an air conditioned trailer outside of Las Vegas. Confronted with the challenge of fighting a war by day and being a wife and mother by night\, she struggles to compartmentalize her existence as her two realities become increasingly permeable. \nRecommended ages 16+
URL:https://theateratmonmouth.org/event/grounded-9/
LOCATION:Cumston Hall\, 796 Main Street\, Monmouth \, ME\, 04259\, United States
CATEGORIES:Fall Play
END:VEVENT
BEGIN:VEVENT
DTSTART;TZID=America/New_York:20210925T193000
DTEND;TZID=America/New_York:20210925T210000
DTSTAMP:20260423T152827
CREATED:20210714T192652Z
LAST-MODIFIED:20210916T184057Z
UID:10695-1632598200-1632603600@theateratmonmouth.org
SUMMARY:Grounded
DESCRIPTION:by George Brant\ndirected by Dawn McAndrews \nAn F-16 fighter pilot is reassigned to the Air Force’s drone program\, piloting a remote-controlled Reaper in the Middle East from an air conditioned trailer outside of Las Vegas. Confronted with the challenge of fighting a war by day and being a wife and mother by night\, she struggles to compartmentalize her existence as her two realities become increasingly permeable. \nRecommended ages 16+
URL:https://theateratmonmouth.org/event/grounded-10/
LOCATION:Cumston Hall\, 796 Main Street\, Monmouth \, ME\, 04259\, United States
CATEGORIES:Fall Play
END:VEVENT
BEGIN:VEVENT
DTSTART;TZID=America/New_York:20210926T130000
DTEND;TZID=America/New_York:20210926T143000
DTSTAMP:20260423T152827
CREATED:20210714T192729Z
LAST-MODIFIED:20210916T184115Z
UID:10697-1632661200-1632666600@theateratmonmouth.org
SUMMARY:Grounded
DESCRIPTION:(Closing Performance) \nby George Brant\ndirected by Dawn McAndrews \nAn F-16 fighter pilot is reassigned to the Air Force’s drone program\, piloting a remote-controlled Reaper in the Middle East from an air conditioned trailer outside of Las Vegas. Confronted with the challenge of fighting a war by day and being a wife and mother by night\, she struggles to compartmentalize her existence as her two realities become increasingly permeable. \nRecommended ages 16+
URL:https://theateratmonmouth.org/event/grounded-11/
LOCATION:Cumston Hall\, 796 Main Street\, Monmouth \, ME\, 04259\, United States
CATEGORIES:Fall Play
END:VEVENT
END:VCALENDAR