BEGIN:VCALENDAR
VERSION:2.0
PRODID:-//The Theater at Monmouth - ECPv6.15.20//NONSGML v1.0//EN
CALSCALE:GREGORIAN
METHOD:PUBLISH
X-ORIGINAL-URL:https://theateratmonmouth.org
X-WR-CALDESC:Events for The Theater at Monmouth
REFRESH-INTERVAL;VALUE=DURATION:PT1H
X-Robots-Tag:noindex
X-PUBLISHED-TTL:PT1H
BEGIN:VTIMEZONE
TZID:America/New_York
BEGIN:DAYLIGHT
TZOFFSETFROM:-0500
TZOFFSETTO:-0400
TZNAME:EDT
DTSTART:20200308T070000
END:DAYLIGHT
BEGIN:STANDARD
TZOFFSETFROM:-0400
TZOFFSETTO:-0500
TZNAME:EST
DTSTART:20201101T060000
END:STANDARD
BEGIN:DAYLIGHT
TZOFFSETFROM:-0500
TZOFFSETTO:-0400
TZNAME:EDT
DTSTART:20210314T070000
END:DAYLIGHT
BEGIN:STANDARD
TZOFFSETFROM:-0400
TZOFFSETTO:-0500
TZNAME:EST
DTSTART:20211107T060000
END:STANDARD
BEGIN:DAYLIGHT
TZOFFSETFROM:-0500
TZOFFSETTO:-0400
TZNAME:EDT
DTSTART:20220313T070000
END:DAYLIGHT
BEGIN:STANDARD
TZOFFSETFROM:-0400
TZOFFSETTO:-0500
TZNAME:EST
DTSTART:20221106T060000
END:STANDARD
END:VTIMEZONE
BEGIN:VEVENT
DTSTART;TZID=America/New_York:20210703T130000
DTEND;TZID=America/New_York:20210703T140000
DTSTAMP:20260423T184201
CREATED:20210422T182844Z
LAST-MODIFIED:20210519T204447Z
UID:9541-1625317200-1625320800@theateratmonmouth.org
SUMMARY:Aesop's Guide to Friendship
DESCRIPTION:This performance will take place outside under a tent at Cumston Hall. \nAesop’s delightful fables full of wit and wisdom let the animals do the talking; dispensing lessons on perseverance\, kindness\, and friendship along the way. Aesop’s Guide to Friendship explores age-old stereotypes and mannerisms in his fables such as “tortoise are slow\,” “hares are quick\,” “foxes are clever” to help young and old alike appreciate our similarities and differences.
URL:https://theateratmonmouth.org/event/aesops-guide-to-friendship-3/
LOCATION:Cumston Hall\, 796 Main Street\, Monmouth \, ME\, 04259\, United States
CATEGORIES:Family Show,Summer Season
END:VEVENT
BEGIN:VEVENT
DTSTART;TZID=America/New_York:20210703T193000
DTEND;TZID=America/New_York:20210703T210000
DTSTAMP:20260423T184201
CREATED:20210422T182600Z
LAST-MODIFIED:20210427T192740Z
UID:9539-1625340600-1625346000@theateratmonmouth.org
SUMMARY:The Agitators
DESCRIPTION:Opening Night/ Monmouth Night \nBrimming with urgency and relevance\, The Agitators examines the friendship and rivalry between Frederick Douglass and Susan B. Anthony. It’s 1849 and two young activists steel themselves for the battles to come. Over the next 45 years\, they journey from allies to adversaries and back. Theirs is a story of defiance\, of rebellion\, of revolution. They agitated the nation. They agitated each other. They changed the course of history.
URL:https://theateratmonmouth.org/event/play-2/
LOCATION:Cumston Hall\, 796 Main Street\, Monmouth \, ME\, 04259\, United States
CATEGORIES:Summer Season
END:VEVENT
BEGIN:VEVENT
DTSTART;TZID=America/New_York:20210707T193000
DTEND;TZID=America/New_York:20210707T213000
DTSTAMP:20260423T184201
CREATED:20210422T183731Z
LAST-MODIFIED:20210503T195817Z
UID:9544-1625686200-1625693400@theateratmonmouth.org
SUMMARY:Daddy Long Legs
DESCRIPTION:This performance will take place outside at WillowsAwake Winery. \nThis heartwarming story about a witty and tenacious young woman and her mysterious benefactor is filled with soaring melodies and deep longing. Based on the classic novel\, which inspired the 1955 movie starring Fred Astaire\, Daddy Long Legs is a “rags-to-riches” tale of newfound love in the spirit of Jane Austen\, The Brontë Sisters\, and Downton Abbey.
URL:https://theateratmonmouth.org/event/play-1-2/
LOCATION:WillowsAwake Winery\, 10 Leeds Junction Rd.\, Leeds\, Maine\, 04263\, United States
CATEGORIES:Summer Season
END:VEVENT
BEGIN:VEVENT
DTSTART;TZID=America/New_York:20210708T193000
DTEND;TZID=America/New_York:20210708T210000
DTSTAMP:20260423T184201
CREATED:20210422T184151Z
LAST-MODIFIED:20210428T183619Z
UID:9547-1625772600-1625778000@theateratmonmouth.org
SUMMARY:Crumbs from the Table of Joy
DESCRIPTION:Preview Night/ Monmouth Night \nGodfrey\, recently widowed\, is spellbound by charismatic preacher\, Father Divine\, while his teen daughters\, Ernestine and Ermina\, find refuge from the racial prejudices of 1950s Brooklyn in Hollywood movies. With the arrival of their fiercely independent Aunt Lily\, things suddenly change: Godfrey marries a white woman displaced from war-torn Germany\, Ermina discovers boys\, and Ernestine is torn between communism and bebop. From the pen of two-time Pulitzer Prize winner Lynn Nottage\, the play examines a family’s process of grief and healing in a decade of political\, racial\, and social upheaval in the United States.
URL:https://theateratmonmouth.org/event/play-3/
LOCATION:Cumston Hall\, 796 Main Street\, Monmouth \, ME\, 04259\, United States
CATEGORIES:Summer Season
END:VEVENT
BEGIN:VEVENT
DTSTART;TZID=America/New_York:20210709T193000
DTEND;TZID=America/New_York:20210709T210000
DTSTAMP:20260423T184201
CREATED:20210422T184303Z
LAST-MODIFIED:20210428T184707Z
UID:9549-1625859000-1625864400@theateratmonmouth.org
SUMMARY:Crumbs from the Table of Joy
DESCRIPTION:Opening Night \nGodfrey\, recently widowed\, is spellbound by charismatic preacher\, Father Divine\, while his teen daughters\, Ernestine and Ermina\, find refuge from the racial prejudices of 1950s Brooklyn in Hollywood movies. With the arrival of their fiercely independent Aunt Lily\, things suddenly change: Godfrey marries a white woman displaced from war-torn Germany\, Ermina discovers boys\, and Ernestine is torn between communism and bebop. From the pen of two-time Pulitzer Prize winner Lynn Nottage\, the play examines a family’s process of grief and healing in a decade of political\, racial\, and social upheaval in the United States.
URL:https://theateratmonmouth.org/event/play-3-2/
LOCATION:Cumston Hall\, 796 Main Street\, Monmouth \, ME\, 04259\, United States
CATEGORIES:Summer Season
END:VEVENT
BEGIN:VEVENT
DTSTART;TZID=America/New_York:20210710T130000
DTEND;TZID=America/New_York:20210710T140000
DTSTAMP:20260423T184201
CREATED:20210422T184419Z
LAST-MODIFIED:20210422T184419Z
UID:9551-1625922000-1625925600@theateratmonmouth.org
SUMMARY:Aesop's Guide to Friendship
DESCRIPTION:Aesop’s delightful fables full of wit and wisdom let the animals do the talking; dispensing lessons on perseverance\, kindness\, and friendship along the way. Aesop’s Guide to Friendship explores age-old stereotypes and mannerisms in his fables such as “tortoise are slow\,” “hares are quick\,” “foxes are clever” to help young and old alike appreciate our similarities and differences.
URL:https://theateratmonmouth.org/event/aesops-guide-to-friendship-4/
LOCATION:Cumston Hall\, 796 Main Street\, Monmouth \, ME\, 04259\, United States
CATEGORIES:Family Show,Summer Season
END:VEVENT
BEGIN:VEVENT
DTSTART;TZID=America/New_York:20210710T193000
DTEND;TZID=America/New_York:20210710T210000
DTSTAMP:20260423T184201
CREATED:20210422T184654Z
LAST-MODIFIED:20210428T183107Z
UID:9553-1625945400-1625950800@theateratmonmouth.org
SUMMARY:Daddy Long Legs
DESCRIPTION:This heartwarming story about a witty and tenacious young woman and her mysterious benefactor is filled with soaring melodies and deep longing. Based on the classic novel\, which inspired the 1955 movie starring Fred Astaire\, Daddy Long Legs is a “rags-to-riches” tale of newfound love in the spirit of Jane Austen\, The Brontë Sisters\, and Downton Abbey.
URL:https://theateratmonmouth.org/event/show-1/
LOCATION:Cumston Hall\, 796 Main Street\, Monmouth \, ME\, 04259\, United States
CATEGORIES:Summer Season
END:VEVENT
BEGIN:VEVENT
DTSTART;TZID=America/New_York:20210715T193000
DTEND;TZID=America/New_York:20210715T210000
DTSTAMP:20260423T184201
CREATED:20210422T185530Z
LAST-MODIFIED:20210422T185530Z
UID:9555-1626377400-1626382800@theateratmonmouth.org
SUMMARY:Measure for Measure
DESCRIPTION:Preview Night/ Monmouth Night \nWith a unique brew of laughter and darkness\, Shakespeare’s tale of impassable moral dilemmas\, religious hypocrisy\, and he said/she said examines the complex relationships between those in power and those they govern. The quality of mercy is strained to the point of breaking in this dark comedy about the corruption of justice and authority…and the true nature of love and mercy.
URL:https://theateratmonmouth.org/event/measure-for-measure/
LOCATION:Cumston Hall\, 796 Main Street\, Monmouth \, ME\, 04259\, United States
CATEGORIES:Summer Season
END:VEVENT
BEGIN:VEVENT
DTSTART;TZID=America/New_York:20210716T193000
DTEND;TZID=America/New_York:20210716T210000
DTSTAMP:20260423T184201
CREATED:20210422T185633Z
LAST-MODIFIED:20210422T185633Z
UID:9557-1626463800-1626469200@theateratmonmouth.org
SUMMARY:Measure for Measure
DESCRIPTION:Opening Night \nWith a unique brew of laughter and darkness\, Shakespeare’s tale of impassable moral dilemmas\, religious hypocrisy\, and he said/she said examines the complex relationships between those in power and those they govern. The quality of mercy is strained to the point of breaking in this dark comedy about the corruption of justice and authority…and the true nature of love and mercy.
URL:https://theateratmonmouth.org/event/measure-for-measure-2/
LOCATION:Cumston Hall\, 796 Main Street\, Monmouth \, ME\, 04259\, United States
CATEGORIES:Summer Season
END:VEVENT
BEGIN:VEVENT
DTSTART;TZID=America/New_York:20210717T130000
DTEND;TZID=America/New_York:20210717T143000
DTSTAMP:20260423T184201
CREATED:20210422T185737Z
LAST-MODIFIED:20210427T193005Z
UID:9559-1626526800-1626532200@theateratmonmouth.org
SUMMARY:The Agitators
DESCRIPTION:Brimming with urgency and relevance\, The Agitators examines the friendship and rivalry between Frederick Douglass and Susan B. Anthony. It’s 1849 and two young activists steel themselves for the battles to come. Over the next 45 years\, they journey from allies to adversaries and back. Theirs is a story of defiance\, of rebellion\, of revolution. They agitated the nation. They agitated each other. They changed the course of history.
URL:https://theateratmonmouth.org/event/show-2/
LOCATION:Cumston Hall\, 796 Main Street\, Monmouth \, ME\, 04259\, United States
CATEGORIES:Summer Season
END:VEVENT
BEGIN:VEVENT
DTSTART;TZID=America/New_York:20210717T193000
DTEND;TZID=America/New_York:20210717T210000
DTSTAMP:20260423T184201
CREATED:20210422T190203Z
LAST-MODIFIED:20210428T183137Z
UID:9561-1626550200-1626555600@theateratmonmouth.org
SUMMARY:Crumbs from the Table of Joy
DESCRIPTION:Godfrey\, recently widowed\, is spellbound by charismatic preacher\, Father Divine\, while his teen daughters\, Ernestine and Ermina\, find refuge from the racial prejudices of 1950s Brooklyn in Hollywood movies. With the arrival of their fiercely independent Aunt Lily\, things suddenly change: Godfrey marries a white woman displaced from war-torn Germany\, Ermina discovers boys\, and Ernestine is torn between communism and bebop. From the pen of two-time Pulitzer Prize winner Lynn Nottage\, the play examines a family’s process of grief and healing in a decade of political\, racial\, and social upheaval in the United States.
URL:https://theateratmonmouth.org/event/play-3-3/
LOCATION:Cumston Hall\, 796 Main Street\, Monmouth \, ME\, 04259\, United States
CATEGORIES:Summer Season
END:VEVENT
BEGIN:VEVENT
DTSTART;TZID=America/New_York:20210721T193000
DTEND;TZID=America/New_York:20210721T210000
DTSTAMP:20260423T184201
CREATED:20210422T190547Z
LAST-MODIFIED:20210503T195757Z
UID:9563-1626895800-1626901200@theateratmonmouth.org
SUMMARY:The Agitators
DESCRIPTION:This performance will take place outside at WillowsAwake Winery. \nBrimming with urgency and relevance\, The Agitators examines the friendship and rivalry between Frederick Douglass and Susan B. Anthony. It’s 1849 and two young activists steel themselves for the battles to come. Over the next 45 years\, they journey from allies to adversaries and back. Theirs is a story of defiance\, of rebellion\, of revolution. They agitated the nation. They agitated each other. They changed the course of history.
URL:https://theateratmonmouth.org/event/show-2-2/
LOCATION:WillowsAwake Winery\, 10 Leeds Junction Rd.\, Leeds\, Maine\, 04263\, United States
CATEGORIES:Summer Season
END:VEVENT
BEGIN:VEVENT
DTSTART;TZID=America/New_York:20210722T193000
DTEND;TZID=America/New_York:20210722T210000
DTSTAMP:20260423T184201
CREATED:20210422T191054Z
LAST-MODIFIED:20210505T160456Z
UID:9565-1626982200-1626987600@theateratmonmouth.org
SUMMARY:The Age of Bees
DESCRIPTION:Preview Night/ Monmouth Night \nTira Palmquist’s coming-of-age drama\, imagines a world where environmental disaster\, and a rapidly spreading plague\, has reduced civilization and decimated hope. Mel finds safe haven on an isolated farm\, tending to some of the last blooming apple orchards as primary pollinator. Into this fertile landscape enters Jonathan\, an independent field researcher collecting samples of plants to start anew. Mel sees possibility and purpose in Jonathan\, and in Mel\, Jonathan discovers a secret that could save the world.
URL:https://theateratmonmouth.org/event/play-4/
LOCATION:Cumston Hall\, 796 Main Street\, Monmouth \, ME\, 04259\, United States
CATEGORIES:Summer Season
END:VEVENT
BEGIN:VEVENT
DTSTART;TZID=America/New_York:20210723T193000
DTEND;TZID=America/New_York:20210723T210000
DTSTAMP:20260423T184201
CREATED:20210422T191149Z
LAST-MODIFIED:20210505T160506Z
UID:9567-1627068600-1627074000@theateratmonmouth.org
SUMMARY:Age of Bees
DESCRIPTION:Opening Night \nTira Palmquist’s coming-of-age drama\, imagines a world where environmental disaster\, and a rapidly spreading plague\, has reduced civilization and decimated hope. Mel finds safe haven on an isolated farm\, tending to some of the last blooming apple orchards as primary pollinator. Into this fertile landscape enters Jonathan\, an independent field researcher collecting samples of plants to start anew. Mel sees possibility and purpose in Jonathan\, and in Mel\, Jonathan discovers a secret that could save the world.
URL:https://theateratmonmouth.org/event/play-4-2/
LOCATION:Cumston Hall\, 796 Main Street\, Monmouth \, ME\, 04259\, United States
CATEGORIES:Summer Season
END:VEVENT
BEGIN:VEVENT
DTSTART;TZID=America/New_York:20210724T130000
DTEND;TZID=America/New_York:20210724T140000
DTSTAMP:20260423T184201
CREATED:20210422T191553Z
LAST-MODIFIED:20210422T191553Z
UID:9571-1627131600-1627135200@theateratmonmouth.org
SUMMARY:Aesop's Guide to Friendship
DESCRIPTION:Aesop’s delightful fables full of wit and wisdom let the animals do the talking; dispensing lessons on perseverance\, kindness\, and friendship along the way. Aesop’s Guide to Friendship explores age-old stereotypes and mannerisms in his fables such as “tortoise are slow\,” “hares are quick\,” “foxes are clever” to help young and old alike appreciate our similarities and differences.
URL:https://theateratmonmouth.org/event/aesops-guide-to-friendship-5/
LOCATION:Cumston Hall\, 796 Main Street\, Monmouth \, ME\, 04259\, United States
CATEGORIES:Family Show,Summer Season
END:VEVENT
BEGIN:VEVENT
DTSTART;TZID=America/New_York:20210724T193000
DTEND;TZID=America/New_York:20210724T210000
DTSTAMP:20260423T184201
CREATED:20210422T191820Z
LAST-MODIFIED:20210422T191820Z
UID:9573-1627155000-1627160400@theateratmonmouth.org
SUMMARY:Measure for Measure
DESCRIPTION:With a unique brew of laughter and darkness\, Shakespeare’s tale of impassable moral dilemmas\, religious hypocrisy\, and he said/she said examines the complex relationships between those in power and those they govern. The quality of mercy is strained to the point of breaking in this dark comedy about the corruption of justice and authority…and the true nature of love and mercy.
URL:https://theateratmonmouth.org/event/measure-for-measure-3/
LOCATION:Cumston Hall\, 796 Main Street\, Monmouth \, ME\, 04259\, United States
CATEGORIES:Summer Season
END:VEVENT
BEGIN:VEVENT
DTSTART;TZID=America/New_York:20210725T130000
DTEND;TZID=America/New_York:20210725T150000
DTSTAMP:20260423T184201
CREATED:20210427T184852Z
LAST-MODIFIED:20210428T183155Z
UID:9693-1627218000-1627225200@theateratmonmouth.org
SUMMARY:Daddy Long Legs
DESCRIPTION:This performance will take place in the tent outside of Cumston Hall. \nThis heartwarming story about a witty and tenacious young woman and her mysterious benefactor is filled with soaring melodies and deep longing. Based on the classic novel\, which inspired the 1955 movie starring Fred Astaire\, Daddy Long Legs is a “rags-to-riches” tale of newfound love in the spirit of Jane Austen\, The Brontë Sisters\, and Downton Abbey.
URL:https://theateratmonmouth.org/event/play-1-8/
LOCATION:Cumston Hall\, 796 Main Street\, Monmouth \, ME\, 04259\, United States
END:VEVENT
BEGIN:VEVENT
DTSTART;TZID=America/New_York:20210725T190000
DTEND;TZID=America/New_York:20210725T210000
DTSTAMP:20260423T184201
CREATED:20210427T185307Z
LAST-MODIFIED:20210427T185307Z
UID:9696-1627239600-1627246800@theateratmonmouth.org
SUMMARY:The Agitators
DESCRIPTION:Brimming with urgency and relevance\, The Agitators examines the friendship and rivalry between Frederick Douglass and Susan B. Anthony. It’s 1849 and two young activists steel themselves for the battles to come. Over the next 45 years\, they journey from allies to adversaries and back. Theirs is a story of defiance\, of rebellion\, of revolution. They agitated the nation. They agitated each other. They changed the course of history.
URL:https://theateratmonmouth.org/event/the-agitators/
LOCATION:Cumston Hall\, 796 Main Street\, Monmouth \, ME\, 04259\, United States
END:VEVENT
BEGIN:VEVENT
DTSTART;TZID=America/New_York:20210728T193000
DTEND;TZID=America/New_York:20210728T210000
DTSTAMP:20260423T184201
CREATED:20210422T192016Z
LAST-MODIFIED:20210503T195948Z
UID:9575-1627500600-1627506000@theateratmonmouth.org
SUMMARY:Crumbs from the Table of Joy
DESCRIPTION:This performance will take place outside at WillowsAwake Winery. \nGodfrey\, recently widowed\, is spellbound by charismatic preacher\, Father Divine\, while his teen daughters\, Ernestine and Ermina\, find refuge from the racial prejudices of 1950s Brooklyn in Hollywood movies. With the arrival of their fiercely independent Aunt Lily\, things suddenly change: Godfrey marries a white woman displaced from war-torn Germany\, Ermina discovers boys\, and Ernestine is torn between communism and bebop. From the pen of two-time Pulitzer Prize winner Lynn Nottage\, the play examines a family’s process of grief and healing in a decade of political\, racial\, and social upheaval in the United States.
URL:https://theateratmonmouth.org/event/play-3-4/
LOCATION:WillowsAwake Winery\, 10 Leeds Junction Rd.\, Leeds\, Maine\, 04263\, United States
CATEGORIES:Summer Season
END:VEVENT
BEGIN:VEVENT
DTSTART;TZID=America/New_York:20210729T193000
DTEND;TZID=America/New_York:20210729T210000
DTSTAMP:20260423T184201
CREATED:20210422T192157Z
LAST-MODIFIED:20210503T195009Z
UID:9577-1627587000-1627592400@theateratmonmouth.org
SUMMARY:Sofonisba
DESCRIPTION:Preview Night/ Monmouth Night \nMichelangelo’s 27-year-old apprentice\, Sofonisba Anguissola\, boards a ship from Italy to become the first female court painter to King Philip II. Her 20 years at the Spanish Court are one long chess match\, played for and against the expectations of king\, bishop\, fool\, knight\, and 14-year-old queen. The sacrifices she makes in service to her art reveal the dangerous waters of court politics for an unmarried\, headstrong woman. A play about the hunger for creation–birth and art–and the very real cost of both.
URL:https://theateratmonmouth.org/event/play-5/
LOCATION:Cumston Hall\, 796 Main Street\, Monmouth \, ME\, 04259\, United States
CATEGORIES:Summer Season
END:VEVENT
BEGIN:VEVENT
DTSTART;TZID=America/New_York:20210730T193000
DTEND;TZID=America/New_York:20210730T213000
DTSTAMP:20260423T184201
CREATED:20210422T192337Z
LAST-MODIFIED:20210503T195103Z
UID:9579-1627673400-1627680600@theateratmonmouth.org
SUMMARY:Sofonisba
DESCRIPTION:Opening Night \nMichelangelo’s 27-year-old apprentice\, Sofonisba Anguissola\, boards a ship from Italy to become the first female court painter to King Philip II. Her 20 years at the Spanish Court are one long chess match\, played for and against the expectations of king\, bishop\, fool\, knight\, and 14-year-old queen. The sacrifices she makes in service to her art reveal the dangerous waters of court politics for an unmarried\, headstrong woman. A play about the hunger for creation–birth and art–and the very real cost of both.
URL:https://theateratmonmouth.org/event/play-5-2/
LOCATION:Cumston Hall\, 796 Main Street\, Monmouth \, ME\, 04259\, United States
CATEGORIES:Summer Season
END:VEVENT
BEGIN:VEVENT
DTSTART;TZID=America/New_York:20210731T130000
DTEND;TZID=America/New_York:20210731T143000
DTSTAMP:20260423T184201
CREATED:20210422T192601Z
LAST-MODIFIED:20210428T184906Z
UID:9581-1627736400-1627741800@theateratmonmouth.org
SUMMARY:Daddy Long Legs
DESCRIPTION:This heartwarming story about a witty and tenacious young woman and her mysterious benefactor is filled with soaring melodies and deep longing. Based on the classic novel\, which inspired the 1955 movie starring Fred Astaire\, Daddy Long Legs is a “rags-to-riches” tale of newfound love in the spirit of Jane Austen\, The Brontë Sisters\, and Downton Abbey.
URL:https://theateratmonmouth.org/event/play-1-3/
LOCATION:Cumston Hall\, 796 Main Street\, Monmouth \, ME\, 04259\, United States
CATEGORIES:Summer Season
END:VEVENT
BEGIN:VEVENT
DTSTART;TZID=America/New_York:20210731T193000
DTEND;TZID=America/New_York:20210731T210000
DTSTAMP:20260423T184201
CREATED:20210422T192731Z
LAST-MODIFIED:20210505T160513Z
UID:9583-1627759800-1627765200@theateratmonmouth.org
SUMMARY:The Age of Bees
DESCRIPTION:Tira Palmquist’s coming-of-age drama\, imagines a world where environmental disaster\, and a rapidly spreading plague\, has reduced civilization and decimated hope. Mel finds safe haven on an isolated farm\, tending to some of the last blooming apple orchards as primary pollinator. Into this fertile landscape enters Jonathan\, an independent field researcher collecting samples of plants to start anew. Mel sees possibility and purpose in Jonathan\, and in Mel\, Jonathan discovers a secret that could save the world.
URL:https://theateratmonmouth.org/event/play-4-3/
LOCATION:Cumston Hall\, 796 Main Street\, Monmouth \, ME\, 04259\, United States
CATEGORIES:Summer Season
END:VEVENT
END:VCALENDAR